BEGIN:VCALENDAR
VERSION:2.0
PRODID:-//Whitehall Township - ECPv6.15.20//NONSGML v1.0//EN
CALSCALE:GREGORIAN
METHOD:PUBLISH
X-ORIGINAL-URL:https://whitehalltwp.org
X-WR-CALDESC:Events for Whitehall Township
REFRESH-INTERVAL;VALUE=DURATION:PT1H
X-Robots-Tag:noindex
X-PUBLISHED-TTL:PT1H
BEGIN:VTIMEZONE
TZID:America/Detroit
BEGIN:DAYLIGHT
TZOFFSETFROM:-0500
TZOFFSETTO:-0400
TZNAME:EDT
DTSTART:20250309T070000
END:DAYLIGHT
BEGIN:STANDARD
TZOFFSETFROM:-0400
TZOFFSETTO:-0500
TZNAME:EST
DTSTART:20251102T060000
END:STANDARD
BEGIN:DAYLIGHT
TZOFFSETFROM:-0500
TZOFFSETTO:-0400
TZNAME:EDT
DTSTART:20260308T070000
END:DAYLIGHT
BEGIN:STANDARD
TZOFFSETFROM:-0400
TZOFFSETTO:-0500
TZNAME:EST
DTSTART:20261101T060000
END:STANDARD
BEGIN:DAYLIGHT
TZOFFSETFROM:-0500
TZOFFSETTO:-0400
TZNAME:EDT
DTSTART:20270314T070000
END:DAYLIGHT
BEGIN:STANDARD
TZOFFSETFROM:-0400
TZOFFSETTO:-0500
TZNAME:EST
DTSTART:20271107T060000
END:STANDARD
END:VTIMEZONE
BEGIN:VEVENT
DTSTART;TZID=America/Detroit:20260107T090000
DTEND;TZID=America/Detroit:20260107T130000
DTSTAMP:20260423T163044
CREATED:20251218T160334Z
LAST-MODIFIED:20251218T160334Z
UID:6150-1767776400-1767790800@whitehalltwp.org
SUMMARY:Treasurer Open Office hours
DESCRIPTION:In Office \n\nTuesday 1:00 – 4 P.M.\nWednesday\, 9:00 A.M. – 1:00 P.M.\nThursday 1 – 4 P.M.
URL:https://whitehalltwp.org/events/treasurer-open-office-hours-44/
LOCATION:Whitehall Township Hall\, 7644 Durham Rd\, Whitehall\, MI\, 49461\, United States
CATEGORIES:Treasurer
ATTACH;FMTTYPE=image/png:https://whitehalltwp.org/wp-content/uploads/2025/08/Screenshot-2025-08-23-at-12.04.01-PM.png
ORGANIZER;CN="Rhonda Boyd":MAILTO:treasurer@whitehalltwp.org
END:VEVENT
BEGIN:VEVENT
DTSTART;TZID=America/Detroit:20260107T090000
DTEND;TZID=America/Detroit:20260107T160000
DTSTAMP:20260423T163044
CREATED:20251218T171422Z
LAST-MODIFIED:20251218T171422Z
UID:6191-1767776400-1767801600@whitehalltwp.org
SUMMARY:Whitehall Transfer Station
DESCRIPTION:HOURS OF OPERATION:\nOctober- March \n\nWEDNESDAY\, 9 a.m. – 4 p.m.\nSATURDAY\, 9 a.m. – 4 p.m.\n\nApril-September \n\nWEDNESDAY\, 8 a.m. – 4 p.m.\nSATURDAY\, 8 a.m. – 4 p.m.
URL:https://whitehalltwp.org/events/whitehall-transfer-station-29/
LOCATION:Whitehall Transfer Station\, 2100 Holton Whitehall Road\, Whitehall\, MI\, 49461\, United States
CATEGORIES:Waste
ATTACH;FMTTYPE=image/jpeg:https://whitehalltwp.org/wp-content/uploads/2025/08/Transfer-Station-2025.jpg
END:VEVENT
BEGIN:VEVENT
DTSTART;TZID=America/Detroit:20260107T100000
DTEND;TZID=America/Detroit:20260107T140000
DTSTAMP:20260423T163044
CREATED:20251218T162200Z
LAST-MODIFIED:20251218T162200Z
UID:6158-1767780000-1767794400@whitehalltwp.org
SUMMARY:Clerk Open Office hours
DESCRIPTION:In Office \n\nMonday\, 10:00 AM – 2:00 PM\nWednesday\, 10:00 AM – 2:00 PM
URL:https://whitehalltwp.org/events/clerk-open-office-hours-18/
LOCATION:Whitehall Township Hall\, 7644 Durham Rd\, Whitehall\, MI\, 49461\, United States
CATEGORIES:Clerk
ATTACH;FMTTYPE=image/png:https://whitehalltwp.org/wp-content/uploads/2025/08/Screenshot-2025-08-23-at-12.04.01-PM.png
ORGANIZER;CN="Ilene R. Nichols":MAILTO:Clerk@whitehalltwp.org
END:VEVENT
BEGIN:VEVENT
DTSTART;TZID=America/Detroit:20260107T180000
DTEND;TZID=America/Detroit:20260107T190000
DTSTAMP:20260423T163044
CREATED:20251218T171922Z
LAST-MODIFIED:20260106T193148Z
UID:6207-1767808800-1767812400@whitehalltwp.org
SUMMARY:Planning Commission Public Hearing Meeting
DESCRIPTION:
URL:https://whitehalltwp.org/events/planning-commission-meeting-4/
LOCATION:Whitehall Township Hall\, 7644 Durham Rd\, Whitehall\, MI\, 49461\, United States
CATEGORIES:Planning Commission
ATTACH;FMTTYPE=image/jpeg:https://whitehalltwp.org/wp-content/uploads/2026/01/Jan-2026-Public-Hearing.jpg
END:VEVENT
END:VCALENDAR