BEGIN:VCALENDAR
VERSION:2.0
PRODID:-//Whitehall Township - ECPv6.15.20//NONSGML v1.0//EN
CALSCALE:GREGORIAN
METHOD:PUBLISH
X-WR-CALNAME:Whitehall Township
X-ORIGINAL-URL:https://whitehalltwp.org
X-WR-CALDESC:Events for Whitehall Township
REFRESH-INTERVAL;VALUE=DURATION:PT1H
X-Robots-Tag:noindex
X-PUBLISHED-TTL:PT1H
BEGIN:VTIMEZONE
TZID:America/Detroit
BEGIN:DAYLIGHT
TZOFFSETFROM:-0500
TZOFFSETTO:-0400
TZNAME:EDT
DTSTART:20250309T070000
END:DAYLIGHT
BEGIN:STANDARD
TZOFFSETFROM:-0400
TZOFFSETTO:-0500
TZNAME:EST
DTSTART:20251102T060000
END:STANDARD
BEGIN:DAYLIGHT
TZOFFSETFROM:-0500
TZOFFSETTO:-0400
TZNAME:EDT
DTSTART:20260308T070000
END:DAYLIGHT
BEGIN:STANDARD
TZOFFSETFROM:-0400
TZOFFSETTO:-0500
TZNAME:EST
DTSTART:20261101T060000
END:STANDARD
BEGIN:DAYLIGHT
TZOFFSETFROM:-0500
TZOFFSETTO:-0400
TZNAME:EDT
DTSTART:20270314T070000
END:DAYLIGHT
BEGIN:STANDARD
TZOFFSETFROM:-0400
TZOFFSETTO:-0500
TZNAME:EST
DTSTART:20271107T060000
END:STANDARD
END:VTIMEZONE
BEGIN:VEVENT
DTSTART;TZID=America/Detroit:20260324T130000
DTEND;TZID=America/Detroit:20260324T160000
DTSTAMP:20260423T180412
CREATED:20260309T140326Z
LAST-MODIFIED:20260309T140326Z
UID:6844-1774357200-1774368000@whitehalltwp.org
SUMMARY:Treasurer Open Office hours
DESCRIPTION:Tuesday 1-4 p.m.\nWednesday 9 a.m. – 1 p.m.\nThursday 1-4 p.m.
URL:https://whitehalltwp.org/events/treasurer-open-office-hours-64/
LOCATION:Whitehall Township Hall\, 7644 Durham Rd\, Whitehall\, MI\, 49461\, United States
CATEGORIES:Treasurer
ORGANIZER;CN="Rhonda Boyd":MAILTO:treasurer@whitehalltwp.org
END:VEVENT
BEGIN:VEVENT
DTSTART;TZID=America/Detroit:20260325T090000
DTEND;TZID=America/Detroit:20260325T130000
DTSTAMP:20260423T180412
CREATED:20260309T144333Z
LAST-MODIFIED:20260309T144333Z
UID:6856-1774429200-1774443600@whitehalltwp.org
SUMMARY:Treasurer Open Office hours
DESCRIPTION:In Office \n\nTuesday 1:00 – 4 P.M.\nWednesday\, 9:00 A.M. – 1:00 P.M.\nThursday 1 – 4 P.M.
URL:https://whitehalltwp.org/events/treasurer-open-office-hours-70/
LOCATION:Whitehall Township Hall\, 7644 Durham Rd\, Whitehall\, MI\, 49461\, United States
CATEGORIES:Treasurer
ATTACH;FMTTYPE=image/png:https://whitehalltwp.org/wp-content/uploads/2025/08/Screenshot-2025-08-23-at-12.04.01-PM.png
ORGANIZER;CN="Rhonda Boyd":MAILTO:treasurer@whitehalltwp.org
END:VEVENT
BEGIN:VEVENT
DTSTART;TZID=America/Detroit:20260326T130000
DTEND;TZID=America/Detroit:20260326T160000
DTSTAMP:20260423T180412
CREATED:20260309T140348Z
LAST-MODIFIED:20260309T140348Z
UID:6846-1774530000-1774540800@whitehalltwp.org
SUMMARY:Treasurer Open Office hours
DESCRIPTION:Tuesday 1-4 p.m.\nWednesday 9 a.m. – 1 p.m.\nThursday 1-4 p.m.
URL:https://whitehalltwp.org/events/treasurer-open-office-hours-65/
LOCATION:Whitehall Township Hall\, 7644 Durham Rd\, Whitehall\, MI\, 49461\, United States
CATEGORIES:Treasurer
ORGANIZER;CN="Rhonda Boyd":MAILTO:treasurer@whitehalltwp.org
END:VEVENT
BEGIN:VEVENT
DTSTART;TZID=America/Detroit:20260331T130000
DTEND;TZID=America/Detroit:20260331T160000
DTSTAMP:20260423T180412
CREATED:20260309T140419Z
LAST-MODIFIED:20260309T140419Z
UID:6848-1774962000-1774972800@whitehalltwp.org
SUMMARY:Treasurer Open Office hours
DESCRIPTION:Tuesday 1-4 p.m.\nWednesday 9 a.m. – 1 p.m.\nThursday 1-4 p.m.
URL:https://whitehalltwp.org/events/treasurer-open-office-hours-66/
LOCATION:Whitehall Township Hall\, 7644 Durham Rd\, Whitehall\, MI\, 49461\, United States
CATEGORIES:Treasurer
ORGANIZER;CN="Rhonda Boyd":MAILTO:treasurer@whitehalltwp.org
END:VEVENT
BEGIN:VEVENT
DTSTART;TZID=America/Detroit:20260401T090000
DTEND;TZID=America/Detroit:20260401T130000
DTSTAMP:20260423T180412
CREATED:20260331T151410Z
LAST-MODIFIED:20260331T151410Z
UID:7025-1775034000-1775048400@whitehalltwp.org
SUMMARY:Treasurer Open Office hours
DESCRIPTION:In Office \n\nTuesday 1:00 – 4 P.M.\nWednesday\, 9:00 A.M. – 1:00 P.M.\nThursday 1 – 4 P.M.
URL:https://whitehalltwp.org/events/treasurer-open-office-hours-79/
LOCATION:Whitehall Township Hall\, 7644 Durham Rd\, Whitehall\, MI\, 49461\, United States
CATEGORIES:Treasurer
ATTACH;FMTTYPE=image/png:https://whitehalltwp.org/wp-content/uploads/2025/08/Screenshot-2025-08-23-at-12.04.01-PM.png
ORGANIZER;CN="Rhonda Boyd":MAILTO:treasurer@whitehalltwp.org
END:VEVENT
BEGIN:VEVENT
DTSTART;TZID=America/Detroit:20260402T130000
DTEND;TZID=America/Detroit:20260402T160000
DTSTAMP:20260423T180412
CREATED:20260331T143527Z
LAST-MODIFIED:20260331T143527Z
UID:7007-1775134800-1775145600@whitehalltwp.org
SUMMARY:Treasurer Open Office hours
DESCRIPTION:Tuesday 1-4 p.m.\nWednesday 9 a.m. – 1 p.m.\nThursday 1-4 p.m.
URL:https://whitehalltwp.org/events/treasurer-open-office-hours-69/
LOCATION:Whitehall Township Hall\, 7644 Durham Rd\, Whitehall\, MI\, 49461\, United States
CATEGORIES:Treasurer
ORGANIZER;CN="Rhonda Boyd":MAILTO:treasurer@whitehalltwp.org
END:VEVENT
BEGIN:VEVENT
DTSTART;TZID=America/Detroit:20260407T130000
DTEND;TZID=America/Detroit:20260407T160000
DTSTAMP:20260423T180412
CREATED:20260331T144228Z
LAST-MODIFIED:20260331T144228Z
UID:7011-1775566800-1775577600@whitehalltwp.org
SUMMARY:Treasurer Open Office hours
DESCRIPTION:Tuesday 1-4 p.m.\nWednesday 9 a.m. – 1 p.m.\nThursday 1-4 p.m.
URL:https://whitehalltwp.org/events/treasurer-open-office-hours-72/
LOCATION:Whitehall Township Hall\, 7644 Durham Rd\, Whitehall\, MI\, 49461\, United States
CATEGORIES:Treasurer
ORGANIZER;CN="Rhonda Boyd":MAILTO:treasurer@whitehalltwp.org
END:VEVENT
BEGIN:VEVENT
DTSTART;TZID=America/Detroit:20260408T090000
DTEND;TZID=America/Detroit:20260408T130000
DTSTAMP:20260423T180412
CREATED:20260331T151518Z
LAST-MODIFIED:20260331T151518Z
UID:7027-1775638800-1775653200@whitehalltwp.org
SUMMARY:Treasurer Open Office hours
DESCRIPTION:In Office \n\nTuesday 1:00 – 4 P.M.\nWednesday\, 9:00 A.M. – 1:00 P.M.\nThursday 1 – 4 P.M.
URL:https://whitehalltwp.org/events/treasurer-open-office-hours-80/
LOCATION:Whitehall Township Hall\, 7644 Durham Rd\, Whitehall\, MI\, 49461\, United States
CATEGORIES:Treasurer
ATTACH;FMTTYPE=image/png:https://whitehalltwp.org/wp-content/uploads/2025/08/Screenshot-2025-08-23-at-12.04.01-PM.png
ORGANIZER;CN="Rhonda Boyd":MAILTO:treasurer@whitehalltwp.org
END:VEVENT
BEGIN:VEVENT
DTSTART;TZID=America/Detroit:20260409T130000
DTEND;TZID=America/Detroit:20260409T160000
DTSTAMP:20260423T180412
CREATED:20260331T143600Z
LAST-MODIFIED:20260331T144057Z
UID:7009-1775739600-1775750400@whitehalltwp.org
SUMMARY:Treasurer Open Office hours
DESCRIPTION:Tuesday 1-4 p.m.\nWednesday 9 a.m. – 1 p.m.\nThursday 1-4 p.m.
URL:https://whitehalltwp.org/events/treasurer-open-office-hours-71/
LOCATION:Whitehall Township Hall\, 7644 Durham Rd\, Whitehall\, MI\, 49461\, United States
CATEGORIES:Treasurer
ORGANIZER;CN="Rhonda Boyd":MAILTO:treasurer@whitehalltwp.org
END:VEVENT
BEGIN:VEVENT
DTSTART;TZID=America/Detroit:20260414T130000
DTEND;TZID=America/Detroit:20260414T160000
DTSTAMP:20260423T180412
CREATED:20260331T144307Z
LAST-MODIFIED:20260331T144307Z
UID:7013-1776171600-1776182400@whitehalltwp.org
SUMMARY:Treasurer Open Office hours
DESCRIPTION:Tuesday 1-4 p.m.\nWednesday 9 a.m. – 1 p.m.\nThursday 1-4 p.m.
URL:https://whitehalltwp.org/events/treasurer-open-office-hours-73/
LOCATION:Whitehall Township Hall\, 7644 Durham Rd\, Whitehall\, MI\, 49461\, United States
CATEGORIES:Treasurer
ORGANIZER;CN="Rhonda Boyd":MAILTO:treasurer@whitehalltwp.org
END:VEVENT
BEGIN:VEVENT
DTSTART;TZID=America/Detroit:20260415T090000
DTEND;TZID=America/Detroit:20260415T130000
DTSTAMP:20260423T180412
CREATED:20260331T151543Z
LAST-MODIFIED:20260331T151543Z
UID:7029-1776243600-1776258000@whitehalltwp.org
SUMMARY:Treasurer Open Office hours
DESCRIPTION:In Office \n\nTuesday 1:00 – 4 P.M.\nWednesday\, 9:00 A.M. – 1:00 P.M.\nThursday 1 – 4 P.M.
URL:https://whitehalltwp.org/events/treasurer-open-office-hours-81/
LOCATION:Whitehall Township Hall\, 7644 Durham Rd\, Whitehall\, MI\, 49461\, United States
CATEGORIES:Treasurer
ATTACH;FMTTYPE=image/png:https://whitehalltwp.org/wp-content/uploads/2025/08/Screenshot-2025-08-23-at-12.04.01-PM.png
ORGANIZER;CN="Rhonda Boyd":MAILTO:treasurer@whitehalltwp.org
END:VEVENT
BEGIN:VEVENT
DTSTART;TZID=America/Detroit:20260416T130000
DTEND;TZID=America/Detroit:20260416T160000
DTSTAMP:20260423T180412
CREATED:20260331T145215Z
LAST-MODIFIED:20260331T145215Z
UID:7015-1776344400-1776355200@whitehalltwp.org
SUMMARY:Treasurer Open Office hours
DESCRIPTION:Tuesday 1-4 p.m.\nWednesday 9 a.m. – 1 p.m.\nThursday 1-4 p.m.
URL:https://whitehalltwp.org/events/treasurer-open-office-hours-74/
LOCATION:Whitehall Township Hall\, 7644 Durham Rd\, Whitehall\, MI\, 49461\, United States
CATEGORIES:Treasurer
ORGANIZER;CN="Rhonda Boyd":MAILTO:treasurer@whitehalltwp.org
END:VEVENT
BEGIN:VEVENT
DTSTART;TZID=America/Detroit:20260421T130000
DTEND;TZID=America/Detroit:20260421T160000
DTSTAMP:20260423T180412
CREATED:20260331T145239Z
LAST-MODIFIED:20260331T145239Z
UID:7017-1776776400-1776787200@whitehalltwp.org
SUMMARY:Treasurer Open Office hours
DESCRIPTION:Tuesday 1-4 p.m.\nWednesday 9 a.m. – 1 p.m.\nThursday 1-4 p.m.
URL:https://whitehalltwp.org/events/treasurer-open-office-hours-75/
LOCATION:Whitehall Township Hall\, 7644 Durham Rd\, Whitehall\, MI\, 49461\, United States
CATEGORIES:Treasurer
ORGANIZER;CN="Rhonda Boyd":MAILTO:treasurer@whitehalltwp.org
END:VEVENT
BEGIN:VEVENT
DTSTART;TZID=America/Detroit:20260422T090000
DTEND;TZID=America/Detroit:20260422T130000
DTSTAMP:20260423T180412
CREATED:20260331T151607Z
LAST-MODIFIED:20260331T151607Z
UID:7031-1776848400-1776862800@whitehalltwp.org
SUMMARY:Treasurer Open Office hours
DESCRIPTION:In Office \n\nTuesday 1:00 – 4 P.M.\nWednesday\, 9:00 A.M. – 1:00 P.M.\nThursday 1 – 4 P.M.
URL:https://whitehalltwp.org/events/treasurer-open-office-hours-82/
LOCATION:Whitehall Township Hall\, 7644 Durham Rd\, Whitehall\, MI\, 49461\, United States
CATEGORIES:Treasurer
ATTACH;FMTTYPE=image/png:https://whitehalltwp.org/wp-content/uploads/2025/08/Screenshot-2025-08-23-at-12.04.01-PM.png
ORGANIZER;CN="Rhonda Boyd":MAILTO:treasurer@whitehalltwp.org
END:VEVENT
BEGIN:VEVENT
DTSTART;TZID=America/Detroit:20260423T130000
DTEND;TZID=America/Detroit:20260423T160000
DTSTAMP:20260423T180412
CREATED:20260331T145627Z
LAST-MODIFIED:20260331T145627Z
UID:7019-1776949200-1776960000@whitehalltwp.org
SUMMARY:Treasurer Open Office hours
DESCRIPTION:Tuesday 1-4 p.m.\nWednesday 9 a.m. – 1 p.m.\nThursday 1-4 p.m.
URL:https://whitehalltwp.org/events/treasurer-open-office-hours-76/
LOCATION:Whitehall Township Hall\, 7644 Durham Rd\, Whitehall\, MI\, 49461\, United States
CATEGORIES:Treasurer
ORGANIZER;CN="Rhonda Boyd":MAILTO:treasurer@whitehalltwp.org
END:VEVENT
BEGIN:VEVENT
DTSTART;TZID=America/Detroit:20260428T130000
DTEND;TZID=America/Detroit:20260428T160000
DTSTAMP:20260423T180412
CREATED:20260331T145741Z
LAST-MODIFIED:20260331T145741Z
UID:7021-1777381200-1777392000@whitehalltwp.org
SUMMARY:Treasurer Open Office hours
DESCRIPTION:Tuesday 1-4 p.m.\nWednesday 9 a.m. – 1 p.m.\nThursday 1-4 p.m.
URL:https://whitehalltwp.org/events/treasurer-open-office-hours-77/
LOCATION:Whitehall Township Hall\, 7644 Durham Rd\, Whitehall\, MI\, 49461\, United States
CATEGORIES:Treasurer
ORGANIZER;CN="Rhonda Boyd":MAILTO:treasurer@whitehalltwp.org
END:VEVENT
BEGIN:VEVENT
DTSTART;TZID=America/Detroit:20260429T090000
DTEND;TZID=America/Detroit:20260429T130000
DTSTAMP:20260423T180412
CREATED:20260331T151630Z
LAST-MODIFIED:20260331T151630Z
UID:7033-1777453200-1777467600@whitehalltwp.org
SUMMARY:Treasurer Open Office hours
DESCRIPTION:In Office \n\nTuesday 1:00 – 4 P.M.\nWednesday\, 9:00 A.M. – 1:00 P.M.\nThursday 1 – 4 P.M.
URL:https://whitehalltwp.org/events/treasurer-open-office-hours-83/
LOCATION:Whitehall Township Hall\, 7644 Durham Rd\, Whitehall\, MI\, 49461\, United States
CATEGORIES:Treasurer
ATTACH;FMTTYPE=image/png:https://whitehalltwp.org/wp-content/uploads/2025/08/Screenshot-2025-08-23-at-12.04.01-PM.png
ORGANIZER;CN="Rhonda Boyd":MAILTO:treasurer@whitehalltwp.org
END:VEVENT
BEGIN:VEVENT
DTSTART;TZID=America/Detroit:20260430T130000
DTEND;TZID=America/Detroit:20260430T160000
DTSTAMP:20260423T180412
CREATED:20260331T151240Z
LAST-MODIFIED:20260331T151240Z
UID:7023-1777554000-1777564800@whitehalltwp.org
SUMMARY:Treasurer Open Office hours
DESCRIPTION:Tuesday 1-4 p.m.\nWednesday 9 a.m. – 1 p.m.\nThursday 1-4 p.m.
URL:https://whitehalltwp.org/events/treasurer-open-office-hours-78/
LOCATION:Whitehall Township Hall\, 7644 Durham Rd\, Whitehall\, MI\, 49461\, United States
CATEGORIES:Treasurer
ORGANIZER;CN="Rhonda Boyd":MAILTO:treasurer@whitehalltwp.org
END:VEVENT
END:VCALENDAR