BEGIN:VCALENDAR
VERSION:2.0
PRODID:-//Whitehall Township - ECPv6.15.20//NONSGML v1.0//EN
CALSCALE:GREGORIAN
METHOD:PUBLISH
X-WR-CALNAME:Whitehall Township
X-ORIGINAL-URL:https://whitehalltwp.org
X-WR-CALDESC:Events for Whitehall Township
REFRESH-INTERVAL;VALUE=DURATION:PT1H
X-Robots-Tag:noindex
X-PUBLISHED-TTL:PT1H
BEGIN:VTIMEZONE
TZID:America/Detroit
BEGIN:DAYLIGHT
TZOFFSETFROM:-0500
TZOFFSETTO:-0400
TZNAME:EDT
DTSTART:20240310T070000
END:DAYLIGHT
BEGIN:STANDARD
TZOFFSETFROM:-0400
TZOFFSETTO:-0500
TZNAME:EST
DTSTART:20241103T060000
END:STANDARD
BEGIN:DAYLIGHT
TZOFFSETFROM:-0500
TZOFFSETTO:-0400
TZNAME:EDT
DTSTART:20250309T070000
END:DAYLIGHT
BEGIN:STANDARD
TZOFFSETFROM:-0400
TZOFFSETTO:-0500
TZNAME:EST
DTSTART:20251102T060000
END:STANDARD
BEGIN:DAYLIGHT
TZOFFSETFROM:-0500
TZOFFSETTO:-0400
TZNAME:EDT
DTSTART:20260308T070000
END:DAYLIGHT
BEGIN:STANDARD
TZOFFSETFROM:-0400
TZOFFSETTO:-0500
TZNAME:EST
DTSTART:20261101T060000
END:STANDARD
END:VTIMEZONE
BEGIN:VEVENT
DTSTART;TZID=America/Detroit:20251027T130000
DTEND;TZID=America/Detroit:20251027T180000
DTSTAMP:20260424T071424
CREATED:20251009T174956Z
LAST-MODIFIED:20251009T174956Z
UID:5471-1761570000-1761588000@whitehalltwp.org
SUMMARY:Whitehall Twp Leaf & Brush Station
DESCRIPTION:HOURS OF OPERATION:\n\nMonday\, 1:00 p.m. – 6:00 p.m.\nWednesday\, 1:00 p.m. – 6:00 p.m.\nSaturday\, 10:00 a.m. – 5:00 p.m.
URL:https://whitehalltwp.org/events/whitehall-twp-leaf-brush-station-17/
LOCATION:Whitehall Rd @ Benston Rd\, Whitehall Rd @ Benston Rd\, Whitehall\, MI\, 49461\, United States
CATEGORIES:Waste
ORGANIZER;CN="Dennis Kroll":MAILTO:supervisor@whitehalltwp.org
END:VEVENT
BEGIN:VEVENT
DTSTART;TZID=America/Detroit:20251027T100000
DTEND;TZID=America/Detroit:20251027T140000
DTSTAMP:20260424T071424
CREATED:20251001T185710Z
LAST-MODIFIED:20251001T185710Z
UID:5448-1761559200-1761573600@whitehalltwp.org
SUMMARY:Clerk Open Office hours
DESCRIPTION:  \n\nMonday\, 10:00 AM – 2:00 PM\nWednesday\, 10:00 AM – 2:00 PM
URL:https://whitehalltwp.org/events/clerk-open-office-hours-7/
LOCATION:Whitehall Township Hall\, 7644 Durham Rd\, Whitehall\, MI\, 49461\, United States
CATEGORIES:Clerk
ATTACH;FMTTYPE=image/png:https://whitehalltwp.org/wp-content/uploads/2025/08/Screenshot-2025-08-23-at-12.04.01-PM.png
ORGANIZER;CN="Ilene R. Nichols":MAILTO:Clerk@whitehalltwp.org
END:VEVENT
BEGIN:VEVENT
DTSTART;TZID=America/Detroit:20251025T100000
DTEND;TZID=America/Detroit:20251025T170000
DTSTAMP:20260424T071424
CREATED:20251009T172844Z
LAST-MODIFIED:20251009T173138Z
UID:5463-1761386400-1761411600@whitehalltwp.org
SUMMARY:Whitehall Twp Leaf & Brush Station
DESCRIPTION:HOURS OF OPERATION:\n\nMonday\, 1:00 p.m. – 6:00 p.m.\nWednesday\, 1:00 p.m. – 6:00 p.m.\nSaturday\, 10:00 a.m. – 5:00 p.m.
URL:https://whitehalltwp.org/events/whitehall-twp-leaf-brush-station-13/
LOCATION:Whitehall Rd @ Benston Rd\, Whitehall Rd @ Benston Rd\, Whitehall\, MI\, 49461\, United States
CATEGORIES:Waste
ORGANIZER;CN="Dennis Kroll":MAILTO:supervisor@whitehalltwp.org
END:VEVENT
BEGIN:VEVENT
DTSTART;TZID=America/Detroit:20251025T090000
DTEND;TZID=America/Detroit:20251025T160000
DTSTAMP:20260424T071424
CREATED:20251015T140137Z
LAST-MODIFIED:20251015T140137Z
UID:5503-1761382800-1761408000@whitehalltwp.org
SUMMARY:Whitehall Transfer Station
DESCRIPTION:HOURS OF OPERATION:\nOctober- March \n\nWEDNESDAY\, 9 a.m. – 4 p.m.\nSATURDAY\, 9 a.m. – 4 p.m.\n\nApril-September \n\nWEDNESDAY\, 8 a.m. – 4 p.m.\nSATURDAY\, 8 a.m. – 4 p.m.
URL:https://whitehalltwp.org/events/whitehall-transfer-station-11/
LOCATION:Whitehall Transfer Station\, 2100 Holton Whitehall Road\, Whitehall\, MI\, 49461\, United States
CATEGORIES:Waste
ATTACH;FMTTYPE=image/jpeg:https://whitehalltwp.org/wp-content/uploads/2025/08/Transfer-Station-2025.jpg
END:VEVENT
BEGIN:VEVENT
DTSTART;VALUE=DATE:20251024
DTEND;VALUE=DATE:20251025
DTSTAMP:20260424T071424
CREATED:20251015T141035Z
LAST-MODIFIED:20251015T141035Z
UID:5513-1761264000-1761350399@whitehalltwp.org
SUMMARY:Office Closed
DESCRIPTION:
URL:https://whitehalltwp.org/events/office-closed-10/
LOCATION:Whitehall Township Hall\, 7644 Durham Rd\, Whitehall\, MI\, 49461\, United States
CATEGORIES:Office
END:VEVENT
BEGIN:VEVENT
DTSTART;TZID=America/Detroit:20251023T130000
DTEND;TZID=America/Detroit:20251023T160000
DTSTAMP:20260424T071424
CREATED:20251001T184624Z
LAST-MODIFIED:20251001T184624Z
UID:5430-1761224400-1761235200@whitehalltwp.org
SUMMARY:Treasurer Open Office hours
DESCRIPTION:Tuesday 1-4 p.m.\nWednesday 9 a.m. – 1 p.m.\nThursday 1-4 p.m.
URL:https://whitehalltwp.org/events/treasurer-open-office-hours-14/
LOCATION:Whitehall Township Hall\, 7644 Durham Rd\, Whitehall\, MI\, 49461\, United States
CATEGORIES:Treasurer
ORGANIZER;CN="Rhonda Boyd":MAILTO:treasurer@whitehalltwp.org
END:VEVENT
BEGIN:VEVENT
DTSTART;TZID=America/Detroit:20251023T100000
DTEND;TZID=America/Detroit:20251023T110000
DTSTAMP:20260424T071424
CREATED:20251021T162609Z
LAST-MODIFIED:20251021T183427Z
UID:5541-1761213600-1761217200@whitehalltwp.org
SUMMARY:Public Accuracy Testing
DESCRIPTION:
URL:https://whitehalltwp.org/events/public-accuracy-testing/
LOCATION:Whitehall Township Hall\, 7644 Durham Rd\, Whitehall\, MI\, 49461\, United States
CATEGORIES:Clerk
ATTACH;FMTTYPE=application/pdf:https://whitehalltwp.org/wp-content/uploads/2025/10/Public-Accuracy-2025.pdf
ORGANIZER;CN="Ilene R. Nichols":MAILTO:Clerk@whitehalltwp.org
END:VEVENT
BEGIN:VEVENT
DTSTART;TZID=America/Detroit:20251022T130000
DTEND;TZID=America/Detroit:20251022T180000
DTSTAMP:20260424T071424
CREATED:20251009T173633Z
LAST-MODIFIED:20251009T173725Z
UID:5469-1761138000-1761156000@whitehalltwp.org
SUMMARY:Whitehall Twp Leaf & Brush Station
DESCRIPTION:HOURS OF OPERATION:\n\nMonday\, 1:00 p.m. – 6:00 p.m.\nWednesday\, 1:00 p.m. – 6:00 p.m.\nSaturday\, 10:00 a.m. – 5:00 p.m.
URL:https://whitehalltwp.org/events/whitehall-twp-leaf-brush-station-16/
LOCATION:Whitehall Rd @ Benston Rd\, Whitehall Rd @ Benston Rd\, Whitehall\, MI\, 49461\, United States
CATEGORIES:Waste
ORGANIZER;CN="Dennis Kroll":MAILTO:supervisor@whitehalltwp.org
END:VEVENT
BEGIN:VEVENT
DTSTART;TZID=America/Detroit:20251022T100000
DTEND;TZID=America/Detroit:20251022T140000
DTSTAMP:20260424T071424
CREATED:20251001T185646Z
LAST-MODIFIED:20251001T185646Z
UID:5446-1761127200-1761141600@whitehalltwp.org
SUMMARY:Clerk Open Office hours
DESCRIPTION:  \n\nMonday\, 10:00 AM – 2:00 PM\nWednesday\, 10:00 AM – 2:00 PM
URL:https://whitehalltwp.org/events/clerk-open-office-hours-6/
LOCATION:Whitehall Township Hall\, 7644 Durham Rd\, Whitehall\, MI\, 49461\, United States
CATEGORIES:Clerk
ATTACH;FMTTYPE=image/png:https://whitehalltwp.org/wp-content/uploads/2025/08/Screenshot-2025-08-23-at-12.04.01-PM.png
ORGANIZER;CN="Ilene R. Nichols":MAILTO:Clerk@whitehalltwp.org
END:VEVENT
BEGIN:VEVENT
DTSTART;TZID=America/Detroit:20251022T090000
DTEND;TZID=America/Detroit:20251022T160000
DTSTAMP:20260424T071424
CREATED:20251015T140045Z
LAST-MODIFIED:20251015T140045Z
UID:5501-1761123600-1761148800@whitehalltwp.org
SUMMARY:Whitehall Transfer Station
DESCRIPTION:HOURS OF OPERATION:\nOctober- March \n\nWEDNESDAY\, 9 a.m. – 4 p.m.\nSATURDAY\, 9 a.m. – 4 p.m.\n\nApril-September \n\nWEDNESDAY\, 8 a.m. – 4 p.m.\nSATURDAY\, 8 a.m. – 4 p.m.
URL:https://whitehalltwp.org/events/whitehall-transfer-station-10/
LOCATION:Whitehall Transfer Station\, 2100 Holton Whitehall Road\, Whitehall\, MI\, 49461\, United States
CATEGORIES:Waste
ATTACH;FMTTYPE=image/jpeg:https://whitehalltwp.org/wp-content/uploads/2025/08/Transfer-Station-2025.jpg
END:VEVENT
BEGIN:VEVENT
DTSTART;TZID=America/Detroit:20251022T090000
DTEND;TZID=America/Detroit:20251022T130000
DTSTAMP:20260424T071424
CREATED:20251001T160418Z
LAST-MODIFIED:20251001T160418Z
UID:5410-1761123600-1761138000@whitehalltwp.org
SUMMARY:Treasurer open office hours
DESCRIPTION:In Office \n\nTuesday 1:00 – 4 P.M.\nWednesday\, 9:00 A.M. – 1:00 P.M.\nThursday 1 – 4 P.M.
URL:https://whitehalltwp.org/events/treasurer-open-office-hours-7/
LOCATION:Whitehall Township Hall\, 7644 Durham Rd\, Whitehall\, MI\, 49461\, United States
CATEGORIES:Treasurer
ATTACH;FMTTYPE=image/png:https://whitehalltwp.org/wp-content/uploads/2025/08/Screenshot-2025-08-23-at-12.04.01-PM.png
ORGANIZER;CN="Rhonda Boyd":MAILTO:treasurer@whitehalltwp.org
END:VEVENT
BEGIN:VEVENT
DTSTART;TZID=America/Detroit:20251021T130000
DTEND;TZID=America/Detroit:20251021T160000
DTSTAMP:20260424T071424
CREATED:20251001T184507Z
LAST-MODIFIED:20251001T184507Z
UID:5428-1761051600-1761062400@whitehalltwp.org
SUMMARY:Treasurer Open Office hours
DESCRIPTION:Tuesday 1-4 p.m.\nWednesday 9 a.m. – 1 p.m.\nThursday 1-4 p.m.
URL:https://whitehalltwp.org/events/treasurer-open-office-hours-13/
LOCATION:Whitehall Township Hall\, 7644 Durham Rd\, Whitehall\, MI\, 49461\, United States
CATEGORIES:Treasurer
ORGANIZER;CN="Rhonda Boyd":MAILTO:treasurer@whitehalltwp.org
END:VEVENT
BEGIN:VEVENT
DTSTART;TZID=America/Detroit:20251020T130000
DTEND;TZID=America/Detroit:20251020T180000
DTSTAMP:20260424T071424
CREATED:20251009T173507Z
LAST-MODIFIED:20251009T173507Z
UID:5467-1760965200-1760983200@whitehalltwp.org
SUMMARY:Whitehall Twp Leaf & Brush Station
DESCRIPTION:HOURS OF OPERATION:\n\nMonday\, 1:00 p.m. – 6:00 p.m.\nWednesday\, 1:00 p.m. – 6:00 p.m.\nSaturday\, 10:00 a.m. – 5:00 p.m.
URL:https://whitehalltwp.org/events/whitehall-twp-leaf-brush-station-15/
LOCATION:Whitehall Rd @ Benston Rd\, Whitehall Rd @ Benston Rd\, Whitehall\, MI\, 49461\, United States
CATEGORIES:Waste
ORGANIZER;CN="Dennis Kroll":MAILTO:supervisor@whitehalltwp.org
END:VEVENT
BEGIN:VEVENT
DTSTART;TZID=America/Detroit:20251020T100000
DTEND;TZID=America/Detroit:20251020T140000
DTSTAMP:20260424T071424
CREATED:20251001T185612Z
LAST-MODIFIED:20251001T185612Z
UID:5444-1760954400-1760968800@whitehalltwp.org
SUMMARY:Clerk Open Office hours
DESCRIPTION:  \n\nMonday\, 10:00 AM – 2:00 PM\nWednesday\, 10:00 AM – 2:00 PM
URL:https://whitehalltwp.org/events/clerk-open-office-hours-5/
LOCATION:Whitehall Township Hall\, 7644 Durham Rd\, Whitehall\, MI\, 49461\, United States
CATEGORIES:Clerk
ATTACH;FMTTYPE=image/png:https://whitehalltwp.org/wp-content/uploads/2025/08/Screenshot-2025-08-23-at-12.04.01-PM.png
ORGANIZER;CN="Ilene R. Nichols":MAILTO:Clerk@whitehalltwp.org
END:VEVENT
BEGIN:VEVENT
DTSTART;TZID=America/Detroit:20251018T100000
DTEND;TZID=America/Detroit:20251018T170000
DTSTAMP:20260424T071424
CREATED:20251009T173331Z
LAST-MODIFIED:20251009T173331Z
UID:5465-1760781600-1760806800@whitehalltwp.org
SUMMARY:Whitehall Twp Leaf & Brush Station
DESCRIPTION:HOURS OF OPERATION:\n\nMonday\, 1:00 p.m. – 6:00 p.m.\nWednesday\, 1:00 p.m. – 6:00 p.m.\nSaturday\, 10:00 a.m. – 5:00 p.m.
URL:https://whitehalltwp.org/events/whitehall-twp-leaf-brush-station-14/
LOCATION:Whitehall Rd @ Benston Rd\, Whitehall Rd @ Benston Rd\, Whitehall\, MI\, 49461\, United States
CATEGORIES:Waste
ORGANIZER;CN="Dennis Kroll":MAILTO:supervisor@whitehalltwp.org
END:VEVENT
BEGIN:VEVENT
DTSTART;TZID=America/Detroit:20251018T090000
DTEND;TZID=America/Detroit:20251018T160000
DTSTAMP:20260424T071424
CREATED:20251015T135557Z
LAST-MODIFIED:20251015T135557Z
UID:5499-1760778000-1760803200@whitehalltwp.org
SUMMARY:Whitehall Transfer Station
DESCRIPTION:HOURS OF OPERATION:\nOctober- March \n\nWEDNESDAY\, 9 a.m. – 4 p.m.\nSATURDAY\, 9 a.m. – 4 p.m.\n\nApril-September \n\nWEDNESDAY\, 8 a.m. – 4 p.m.\nSATURDAY\, 8 a.m. – 4 p.m.
URL:https://whitehalltwp.org/events/whitehall-transfer-station-9/
LOCATION:Whitehall Transfer Station\, 2100 Holton Whitehall Road\, Whitehall\, MI\, 49461\, United States
CATEGORIES:Waste
ATTACH;FMTTYPE=image/jpeg:https://whitehalltwp.org/wp-content/uploads/2025/08/Transfer-Station-2025.jpg
END:VEVENT
BEGIN:VEVENT
DTSTART;VALUE=DATE:20251017
DTEND;VALUE=DATE:20251018
DTSTAMP:20260424T071424
CREATED:20251015T140958Z
LAST-MODIFIED:20251015T140958Z
UID:5511-1760659200-1760745599@whitehalltwp.org
SUMMARY:Office Closed
DESCRIPTION:
URL:https://whitehalltwp.org/events/office-closed-9/
LOCATION:Whitehall Township Hall\, 7644 Durham Rd\, Whitehall\, MI\, 49461\, United States
CATEGORIES:Office
END:VEVENT
BEGIN:VEVENT
DTSTART;TZID=America/Detroit:20251016T130000
DTEND;TZID=America/Detroit:20251016T160000
DTSTAMP:20260424T071424
CREATED:20251001T171043Z
LAST-MODIFIED:20251001T171102Z
UID:5416-1760619600-1760630400@whitehalltwp.org
SUMMARY:Treasurer Open Office hours
DESCRIPTION:Tuesday 1-4 p.m.\nWednesday 9 a.m. – 1 p.m.\nThursday 1-4 p.m.
URL:https://whitehalltwp.org/events/treasurer-open-office-hours-10/
LOCATION:Whitehall Township Hall\, 7644 Durham Rd\, Whitehall\, MI\, 49461\, United States
CATEGORIES:Treasurer
ORGANIZER;CN="Rhonda Boyd":MAILTO:treasurer@whitehalltwp.org
END:VEVENT
BEGIN:VEVENT
DTSTART;TZID=America/Detroit:20251016T100000
DTEND;TZID=America/Detroit:20251016T223000
DTSTAMP:20260424T071424
CREATED:20251009T175646Z
LAST-MODIFIED:20251009T184741Z
UID:5477-1760608800-1760653800@whitehalltwp.org
SUMMARY:Election Commission Meeting
DESCRIPTION:
URL:https://whitehalltwp.org/events/election-commission-meeting/
LOCATION:Whitehall Township Hall\, 7644 Durham Rd\, Whitehall\, MI\, 49461\, United States
CATEGORIES:Regular
ORGANIZER;CN="Ilene R. Nichols":MAILTO:Clerk@whitehalltwp.org
END:VEVENT
BEGIN:VEVENT
DTSTART;TZID=America/Detroit:20251015T130000
DTEND;TZID=America/Detroit:20251015T180000
DTSTAMP:20260424T071424
CREATED:20251009T172335Z
LAST-MODIFIED:20251009T172423Z
UID:5459-1760533200-1760551200@whitehalltwp.org
SUMMARY:Whitehall Twp Leaf & Brush Station
DESCRIPTION:HOURS OF OPERATION:\n\nMonday\, 1:00 p.m. – 6:00 p.m.\nWednesday\, 1:00 p.m. – 6:00 p.m.\nSaturday\, 10:00 a.m. – 5:00 p.m.
URL:https://whitehalltwp.org/events/whitehall-twp-leaf-brush-station-11/
LOCATION:Whitehall Rd @ Benston Rd\, Whitehall Rd @ Benston Rd\, Whitehall\, MI\, 49461\, United States
CATEGORIES:Waste
ORGANIZER;CN="Dennis Kroll":MAILTO:supervisor@whitehalltwp.org
END:VEVENT
BEGIN:VEVENT
DTSTART;TZID=America/Detroit:20251015T100000
DTEND;TZID=America/Detroit:20251015T140000
DTSTAMP:20260424T071424
CREATED:20251001T185517Z
LAST-MODIFIED:20251001T185517Z
UID:5442-1760522400-1760536800@whitehalltwp.org
SUMMARY:Clerk Open Office hours
DESCRIPTION:  \n\nMonday\, 10:00 AM – 2:00 PM\nWednesday\, 10:00 AM – 2:00 PM
URL:https://whitehalltwp.org/events/clerk-open-office-hours-4/
LOCATION:Whitehall Township Hall\, 7644 Durham Rd\, Whitehall\, MI\, 49461\, United States
CATEGORIES:Clerk
ATTACH;FMTTYPE=image/png:https://whitehalltwp.org/wp-content/uploads/2025/08/Screenshot-2025-08-23-at-12.04.01-PM.png
ORGANIZER;CN="Ilene R. Nichols":MAILTO:Clerk@whitehalltwp.org
END:VEVENT
BEGIN:VEVENT
DTSTART;TZID=America/Detroit:20251015T090000
DTEND;TZID=America/Detroit:20251015T160000
DTSTAMP:20260424T071424
CREATED:20250903T182117Z
LAST-MODIFIED:20251015T135452Z
UID:5301-1760518800-1760544000@whitehalltwp.org
SUMMARY:Whitehall Transfer Station
DESCRIPTION:HOURS OF OPERATION:\nOctober- March \n\nWEDNESDAY\, 9 a.m. – 4 p.m.\nSATURDAY\, 9 a.m. – 4 p.m.\n\nApril-September \n\nWEDNESDAY\, 8 a.m. – 4 p.m.\nSATURDAY\, 8 a.m. – 4 p.m.
URL:https://whitehalltwp.org/events/whitehall-transfer-station-8/
LOCATION:Whitehall Transfer Station\, 2100 Holton Whitehall Road\, Whitehall\, MI\, 49461\, United States
CATEGORIES:Waste
ATTACH;FMTTYPE=image/jpeg:https://whitehalltwp.org/wp-content/uploads/2025/08/Transfer-Station-2025.jpg
END:VEVENT
BEGIN:VEVENT
DTSTART;TZID=America/Detroit:20251015T090000
DTEND;TZID=America/Detroit:20251015T130000
DTSTAMP:20260424T071424
CREATED:20251001T160348Z
LAST-MODIFIED:20251001T160348Z
UID:5408-1760518800-1760533200@whitehalltwp.org
SUMMARY:Treasurer open office hours
DESCRIPTION:In Office \n\nTuesday 1:00 – 4 P.M.\nWednesday\, 9:00 A.M. – 1:00 P.M.\nThursday 1 – 4 P.M.
URL:https://whitehalltwp.org/events/treasurer-open-office-hours-6/
LOCATION:Whitehall Township Hall\, 7644 Durham Rd\, Whitehall\, MI\, 49461\, United States
CATEGORIES:Treasurer
ATTACH;FMTTYPE=image/png:https://whitehalltwp.org/wp-content/uploads/2025/08/Screenshot-2025-08-23-at-12.04.01-PM.png
ORGANIZER;CN="Rhonda Boyd":MAILTO:treasurer@whitehalltwp.org
END:VEVENT
BEGIN:VEVENT
DTSTART;TZID=America/Detroit:20251014T130000
DTEND;TZID=America/Detroit:20251014T160000
DTSTAMP:20260424T071424
CREATED:20251001T184032Z
LAST-MODIFIED:20251001T184032Z
UID:5426-1760446800-1760457600@whitehalltwp.org
SUMMARY:Treasurer Open Office hours
DESCRIPTION:Tuesday 1-4 p.m.\nWednesday 9 a.m. – 1 p.m.\nThursday 1-4 p.m.
URL:https://whitehalltwp.org/events/treasurer-open-office-hours-12/
LOCATION:Whitehall Township Hall\, 7644 Durham Rd\, Whitehall\, MI\, 49461\, United States
CATEGORIES:Treasurer
ORGANIZER;CN="Rhonda Boyd":MAILTO:treasurer@whitehalltwp.org
END:VEVENT
BEGIN:VEVENT
DTSTART;VALUE=DATE:20251013
DTEND;VALUE=DATE:20251014
DTSTAMP:20260424T071424
CREATED:20250828T200253Z
LAST-MODIFIED:20251009T184956Z
UID:5239-1760313600-1760399999@whitehalltwp.org
SUMMARY:Office Closed
DESCRIPTION:
URL:https://whitehalltwp.org/events/office-closed-2/
LOCATION:Whitehall Township Hall\, 7644 Durham Rd\, Whitehall\, MI\, 49461\, United States
CATEGORIES:Office
END:VEVENT
BEGIN:VEVENT
DTSTART;TZID=America/Detroit:20251011T100000
DTEND;TZID=America/Detroit:20251011T170000
DTSTAMP:20260424T071424
CREATED:20251009T172815Z
LAST-MODIFIED:20251009T172815Z
UID:5461-1760176800-1760202000@whitehalltwp.org
SUMMARY:Whitehall Twp Leaf & Brush Station
DESCRIPTION:HOURS OF OPERATION:\n\nMonday\, 1:00 p.m. – 6:00 p.m.\nWednesday\, 1:00 p.m. – 6:00 p.m.\nSaturday\, 10:00 a.m. – 5:00 p.m.
URL:https://whitehalltwp.org/events/whitehall-twp-leaf-brush-station-12/
LOCATION:Whitehall Rd @ Benston Rd\, Whitehall Rd @ Benston Rd\, Whitehall\, MI\, 49461\, United States
CATEGORIES:Waste
ORGANIZER;CN="Dennis Kroll":MAILTO:supervisor@whitehalltwp.org
END:VEVENT
BEGIN:VEVENT
DTSTART;VALUE=DATE:20251010
DTEND;VALUE=DATE:20251011
DTSTAMP:20260424T071424
CREATED:20251015T140919Z
LAST-MODIFIED:20251015T140919Z
UID:5509-1760054400-1760140799@whitehalltwp.org
SUMMARY:Office Closed
DESCRIPTION:
URL:https://whitehalltwp.org/events/office-closed-8/
LOCATION:Whitehall Township Hall\, 7644 Durham Rd\, Whitehall\, MI\, 49461\, United States
CATEGORIES:Office
END:VEVENT
BEGIN:VEVENT
DTSTART;TZID=America/Detroit:20251009T130000
DTEND;TZID=America/Detroit:20251009T160000
DTSTAMP:20260424T071424
CREATED:20251001T164814Z
LAST-MODIFIED:20251001T164814Z
UID:5414-1760014800-1760025600@whitehalltwp.org
SUMMARY:Treasurer Open Office hours
DESCRIPTION:Tuesday 1-4 p.m.\nWednesday 9 a.m. – 1 p.m.\nThursday 1-4 p.m.
URL:https://whitehalltwp.org/events/treasurer-open-office-hours-9/
LOCATION:Whitehall Township Hall\, 7644 Durham Rd\, Whitehall\, MI\, 49461\, United States
CATEGORIES:Treasurer
END:VEVENT
BEGIN:VEVENT
DTSTART;TZID=America/Detroit:20251008T130000
DTEND;TZID=America/Detroit:20251008T180000
DTSTAMP:20260424T071424
CREATED:20251009T172158Z
LAST-MODIFIED:20251009T172158Z
UID:5457-1759928400-1759946400@whitehalltwp.org
SUMMARY:Whitehall Twp Leaf & Brush Station
DESCRIPTION:HOURS OF OPERATION:\n\nMonday\, 1:00 p.m. – 6:00 p.m.\nWednesday\, 1:00 p.m. – 6:00 p.m.\nSaturday\, 10:00 a.m. – 5:00 p.m.
URL:https://whitehalltwp.org/events/whitehall-twp-leaf-brush-station-10/
LOCATION:Whitehall Rd @ Benston Rd\, Whitehall Rd @ Benston Rd\, Whitehall\, MI\, 49461\, United States
CATEGORIES:Waste
ORGANIZER;CN="Dennis Kroll":MAILTO:supervisor@whitehalltwp.org
END:VEVENT
BEGIN:VEVENT
DTSTART;TZID=America/Detroit:20251008T100000
DTEND;TZID=America/Detroit:20251008T140000
DTSTAMP:20260424T071424
CREATED:20251001T185050Z
LAST-MODIFIED:20251001T185103Z
UID:5425-1759917600-1759932000@whitehalltwp.org
SUMMARY:Clerk Open Office hours
DESCRIPTION:  \n\nMonday\, 10:00 AM – 2:00 PM\nWednesday\, 10:00 AM – 2:00 PM
URL:https://whitehalltwp.org/events/clerk-open-office-hours/
LOCATION:Whitehall Township Hall\, 7644 Durham Rd\, Whitehall\, MI\, 49461\, United States
CATEGORIES:Clerk
ATTACH;FMTTYPE=image/png:https://whitehalltwp.org/wp-content/uploads/2025/08/Screenshot-2025-08-23-at-12.04.01-PM.png
ORGANIZER;CN="Ilene R. Nichols":MAILTO:Clerk@whitehalltwp.org
END:VEVENT
END:VCALENDAR