BEGIN:VCALENDAR
VERSION:2.0
PRODID:-//Whitehall Township - ECPv6.15.20//NONSGML v1.0//EN
CALSCALE:GREGORIAN
METHOD:PUBLISH
X-WR-CALNAME:Whitehall Township
X-ORIGINAL-URL:https://whitehalltwp.org
X-WR-CALDESC:Events for Whitehall Township
REFRESH-INTERVAL;VALUE=DURATION:PT1H
X-Robots-Tag:noindex
X-PUBLISHED-TTL:PT1H
BEGIN:VTIMEZONE
TZID:America/Detroit
BEGIN:DAYLIGHT
TZOFFSETFROM:-0500
TZOFFSETTO:-0400
TZNAME:EDT
DTSTART:20240310T070000
END:DAYLIGHT
BEGIN:STANDARD
TZOFFSETFROM:-0400
TZOFFSETTO:-0500
TZNAME:EST
DTSTART:20241103T060000
END:STANDARD
BEGIN:DAYLIGHT
TZOFFSETFROM:-0500
TZOFFSETTO:-0400
TZNAME:EDT
DTSTART:20250309T070000
END:DAYLIGHT
BEGIN:STANDARD
TZOFFSETFROM:-0400
TZOFFSETTO:-0500
TZNAME:EST
DTSTART:20251102T060000
END:STANDARD
BEGIN:DAYLIGHT
TZOFFSETFROM:-0500
TZOFFSETTO:-0400
TZNAME:EDT
DTSTART:20260308T070000
END:DAYLIGHT
BEGIN:STANDARD
TZOFFSETFROM:-0400
TZOFFSETTO:-0500
TZNAME:EST
DTSTART:20261101T060000
END:STANDARD
END:VTIMEZONE
BEGIN:VEVENT
DTSTART;TZID=America/Detroit:20251124T130000
DTEND;TZID=America/Detroit:20251124T180000
DTSTAMP:20260424T113249
CREATED:20251118T153312Z
LAST-MODIFIED:20251118T153312Z
UID:5668-1763989200-1764007200@whitehalltwp.org
SUMMARY:Whitehall Twp Leaf & Brush Station
DESCRIPTION:HOURS OF OPERATION:\n\nMonday\, 1:00 p.m. – 6:00 p.m.\nWednesday\, 1:00 p.m. – 6:00 p.m.\nSaturday\, 10:00 a.m. – 5:00 p.m.
URL:https://whitehalltwp.org/events/whitehall-twp-leaf-brush-station-27/
LOCATION:Whitehall Rd @ Benston Rd\, Whitehall Rd @ Benston Rd\, Whitehall\, MI\, 49461\, United States
CATEGORIES:Waste
ORGANIZER;CN="Dennis Kroll":MAILTO:supervisor@whitehalltwp.org
END:VEVENT
BEGIN:VEVENT
DTSTART;TZID=America/Detroit:20251124T100000
DTEND;TZID=America/Detroit:20251124T140000
DTSTAMP:20260424T113249
CREATED:20251118T153839Z
LAST-MODIFIED:20251118T153839Z
UID:5684-1763978400-1763992800@whitehalltwp.org
SUMMARY:Clerk Open Office hours
DESCRIPTION:In Office \n\nMonday\, 10:00 AM – 2:00 PM\nWednesday\, 10:00 AM – 2:00 PM
URL:https://whitehalltwp.org/events/clerk-open-office-hours-9/
LOCATION:Whitehall Township Hall\, 7644 Durham Rd\, Whitehall\, MI\, 49461\, United States
CATEGORIES:Clerk
ATTACH;FMTTYPE=image/png:https://whitehalltwp.org/wp-content/uploads/2025/08/Screenshot-2025-08-23-at-12.04.01-PM.png
ORGANIZER;CN="Ilene R. Nichols":MAILTO:Clerk@whitehalltwp.org
END:VEVENT
BEGIN:VEVENT
DTSTART;TZID=America/Detroit:20251122T100000
DTEND;TZID=America/Detroit:20251122T170000
DTSTAMP:20260424T113249
CREATED:20251030T145340Z
LAST-MODIFIED:20251030T145340Z
UID:5570-1763805600-1763830800@whitehalltwp.org
SUMMARY:Whitehall Twp Leaf & Brush Station
DESCRIPTION:HOURS OF OPERATION:\n\nMonday\, 1:00 p.m. – 6:00 p.m.\nWednesday\, 1:00 p.m. – 6:00 p.m.\nSaturday\, 10:00 a.m. – 5:00 p.m.
URL:https://whitehalltwp.org/events/whitehall-twp-leaf-brush-station-24/
LOCATION:Whitehall Rd @ Benston Rd\, Whitehall Rd @ Benston Rd\, Whitehall\, MI\, 49461\, United States
CATEGORIES:Waste
ORGANIZER;CN="Dennis Kroll":MAILTO:supervisor@whitehalltwp.org
END:VEVENT
BEGIN:VEVENT
DTSTART;TZID=America/Detroit:20251122T090000
DTEND;TZID=America/Detroit:20251122T160000
DTSTAMP:20260424T113249
CREATED:20251030T150139Z
LAST-MODIFIED:20251030T150139Z
UID:5586-1763802000-1763827200@whitehalltwp.org
SUMMARY:Whitehall Transfer Station
DESCRIPTION:HOURS OF OPERATION:\nOctober- March \n\nWEDNESDAY\, 9 a.m. – 4 p.m.\nSATURDAY\, 9 a.m. – 4 p.m.\n\nApril-September \n\nWEDNESDAY\, 8 a.m. – 4 p.m.\nSATURDAY\, 8 a.m. – 4 p.m.
URL:https://whitehalltwp.org/events/whitehall-transfer-station-18/
LOCATION:Whitehall Transfer Station\, 2100 Holton Whitehall Road\, Whitehall\, MI\, 49461\, United States
CATEGORIES:Waste
ATTACH;FMTTYPE=image/jpeg:https://whitehalltwp.org/wp-content/uploads/2025/08/Transfer-Station-2025.jpg
END:VEVENT
BEGIN:VEVENT
DTSTART;VALUE=DATE:20251121
DTEND;VALUE=DATE:20251122
DTSTAMP:20260424T113249
CREATED:20251015T141244Z
LAST-MODIFIED:20251015T141244Z
UID:5521-1763683200-1763769599@whitehalltwp.org
SUMMARY:Office Closed
DESCRIPTION:
URL:https://whitehalltwp.org/events/office-closed-14/
LOCATION:Whitehall Township Hall\, 7644 Durham Rd\, Whitehall\, MI\, 49461\, United States
CATEGORIES:Office
END:VEVENT
BEGIN:VEVENT
DTSTART;TZID=America/Detroit:20251120T130000
DTEND;TZID=America/Detroit:20251120T160000
DTSTAMP:20260424T113249
CREATED:20251030T191300Z
LAST-MODIFIED:20251030T191300Z
UID:5616-1763643600-1763654400@whitehalltwp.org
SUMMARY:Treasurer Open Office hours
DESCRIPTION:Tuesday 1-4 p.m.\nWednesday 9 a.m. – 1 p.m.\nThursday 1-4 p.m.
URL:https://whitehalltwp.org/events/treasurer-open-office-hours-24/
LOCATION:Whitehall Township Hall\, 7644 Durham Rd\, Whitehall\, MI\, 49461\, United States
CATEGORIES:Treasurer
END:VEVENT
BEGIN:VEVENT
DTSTART;TZID=America/Detroit:20251119T160000
DTEND;TZID=America/Detroit:20251119T170000
DTSTAMP:20260424T113249
CREATED:20251118T150235Z
LAST-MODIFIED:20251118T150235Z
UID:5647-1763568000-1763571600@whitehalltwp.org
SUMMARY:White Lake Ambulance Authority
DESCRIPTION:WLAA Meeting Schedule\nat the Whtie Lake Ambulance Station 1\n8220 Whitehall Rd \nNovember 19\, 2025\nDecember 17\, 2025\nJanuary 28\, 2026\nFebruary 25\, 2025
URL:https://whitehalltwp.org/events/white-lake-ambulance-authority/
LOCATION:WLAA Station 1\, 8220 Whitehall Rd\, Whitehall\, MI\, 49461\, United States
ATTACH;FMTTYPE=image/jpeg:https://whitehalltwp.org/wp-content/uploads/2025/11/WLAA-meeting-schedule-3.jpg
END:VEVENT
BEGIN:VEVENT
DTSTART;TZID=America/Detroit:20251119T130000
DTEND;TZID=America/Detroit:20251119T180000
DTSTAMP:20260424T113249
CREATED:20251118T153218Z
LAST-MODIFIED:20251118T153218Z
UID:5666-1763557200-1763575200@whitehalltwp.org
SUMMARY:Whitehall Twp Leaf & Brush Station
DESCRIPTION:HOURS OF OPERATION:\n\nMonday\, 1:00 p.m. – 6:00 p.m.\nWednesday\, 1:00 p.m. – 6:00 p.m.\nSaturday\, 10:00 a.m. – 5:00 p.m.
URL:https://whitehalltwp.org/events/whitehall-twp-leaf-brush-station-26/
LOCATION:Whitehall Rd @ Benston Rd\, Whitehall Rd @ Benston Rd\, Whitehall\, MI\, 49461\, United States
CATEGORIES:Waste
ORGANIZER;CN="Dennis Kroll":MAILTO:supervisor@whitehalltwp.org
END:VEVENT
BEGIN:VEVENT
DTSTART;TZID=America/Detroit:20251119T100000
DTEND;TZID=America/Detroit:20251119T140000
DTSTAMP:20260424T113249
CREATED:20250903T182257Z
LAST-MODIFIED:20251030T184326Z
UID:5310-1763546400-1763560800@whitehalltwp.org
SUMMARY:Clerk Open Office hours
DESCRIPTION:In Office \n\nMonday\, 10:00 AM – 2:00 PM\nWednesday\, 10:00 AM – 2:00 PM
URL:https://whitehalltwp.org/events/clerk-in-office-5/
LOCATION:Whitehall Township Hall\, 7644 Durham Rd\, Whitehall\, MI\, 49461\, United States
CATEGORIES:Clerk
ATTACH;FMTTYPE=image/png:https://whitehalltwp.org/wp-content/uploads/2025/08/Screenshot-2025-08-23-at-12.04.01-PM.png
ORGANIZER;CN="Ilene R. Nichols":MAILTO:Clerk@whitehalltwp.org
END:VEVENT
BEGIN:VEVENT
DTSTART;TZID=America/Detroit:20251119T090000
DTEND;TZID=America/Detroit:20251119T160000
DTSTAMP:20260424T113249
CREATED:20251030T145952Z
LAST-MODIFIED:20251030T150008Z
UID:5584-1763542800-1763568000@whitehalltwp.org
SUMMARY:Whitehall Transfer Station
DESCRIPTION:HOURS OF OPERATION:\nOctober- March \n\nWEDNESDAY\, 9 a.m. – 4 p.m.\nSATURDAY\, 9 a.m. – 4 p.m.\n\nApril-September \n\nWEDNESDAY\, 8 a.m. – 4 p.m.\nSATURDAY\, 8 a.m. – 4 p.m.
URL:https://whitehalltwp.org/events/whitehall-transfer-station-17/
LOCATION:Whitehall Transfer Station\, 2100 Holton Whitehall Road\, Whitehall\, MI\, 49461\, United States
CATEGORIES:Waste
ATTACH;FMTTYPE=image/jpeg:https://whitehalltwp.org/wp-content/uploads/2025/08/Transfer-Station-2025.jpg
END:VEVENT
BEGIN:VEVENT
DTSTART;TZID=America/Detroit:20251119T090000
DTEND;TZID=America/Detroit:20251119T130000
DTSTAMP:20260424T113249
CREATED:20251030T182234Z
LAST-MODIFIED:20251030T182234Z
UID:5596-1763542800-1763557200@whitehalltwp.org
SUMMARY:Treasurer open office hours
DESCRIPTION:In Office \n\nTuesday 1:00 – 4 P.M.\nWednesday\, 9:00 A.M. – 1:00 P.M.\nThursday 1 – 4 P.M.
URL:https://whitehalltwp.org/events/treasurer-open-office-hours-19/
LOCATION:Whitehall Township Hall\, 7644 Durham Rd\, Whitehall\, MI\, 49461\, United States
CATEGORIES:Treasurer
ATTACH;FMTTYPE=image/png:https://whitehalltwp.org/wp-content/uploads/2025/08/Screenshot-2025-08-23-at-12.04.01-PM.png
ORGANIZER;CN="Rhonda Boyd":MAILTO:treasurer@whitehalltwp.org
END:VEVENT
BEGIN:VEVENT
DTSTART;TZID=America/Detroit:20251118T130000
DTEND;TZID=America/Detroit:20251118T160000
DTSTAMP:20260424T113249
CREATED:20250923T172507Z
LAST-MODIFIED:20251030T185637Z
UID:5385-1763470800-1763481600@whitehalltwp.org
SUMMARY:Treasurer Open Office hours
DESCRIPTION:Tuesday 1-4 p.m.\nWednesday 9 a.m. – 1 p.m.\nThursday 1-4 p.m.
URL:https://whitehalltwp.org/events/treasurer-open-office-hours/
LOCATION:Whitehall Township Hall\, 7644 Durham Rd\, Whitehall\, MI\, 49461\, United States
CATEGORIES:Treasurer
END:VEVENT
BEGIN:VEVENT
DTSTART;TZID=America/Detroit:20251117T130000
DTEND;TZID=America/Detroit:20251117T180000
DTSTAMP:20260424T113249
CREATED:20251118T153342Z
LAST-MODIFIED:20251118T153342Z
UID:5670-1763384400-1763402400@whitehalltwp.org
SUMMARY:Whitehall Twp Leaf & Brush Station
DESCRIPTION:HOURS OF OPERATION:\n\nMonday\, 1:00 p.m. – 6:00 p.m.\nWednesday\, 1:00 p.m. – 6:00 p.m.\nSaturday\, 10:00 a.m. – 5:00 p.m.
URL:https://whitehalltwp.org/events/whitehall-twp-leaf-brush-station-28/
LOCATION:Whitehall Rd @ Benston Rd\, Whitehall Rd @ Benston Rd\, Whitehall\, MI\, 49461\, United States
CATEGORIES:Waste
ORGANIZER;CN="Dennis Kroll":MAILTO:supervisor@whitehalltwp.org
END:VEVENT
BEGIN:VEVENT
DTSTART;TZID=America/Detroit:20251117T100000
DTEND;TZID=America/Detroit:20251117T140000
DTSTAMP:20260424T113249
CREATED:20250903T172447Z
LAST-MODIFIED:20251030T183257Z
UID:5271-1763373600-1763388000@whitehalltwp.org
SUMMARY:Clerk Open Office hours
DESCRIPTION:In Office \n\nMonday\, 10:00 AM – 2:00 PM\nWednesday\, 10:00 AM – 2:00 PM
URL:https://whitehalltwp.org/events/clerk-in-office-3/
LOCATION:Whitehall Township Hall\, 7644 Durham Rd\, Whitehall\, MI\, 49461\, United States
CATEGORIES:Clerk
ATTACH;FMTTYPE=image/png:https://whitehalltwp.org/wp-content/uploads/2025/08/Screenshot-2025-08-23-at-12.04.01-PM.png
ORGANIZER;CN="Ilene R. Nichols":MAILTO:Clerk@whitehalltwp.org
END:VEVENT
BEGIN:VEVENT
DTSTART;TZID=America/Detroit:20251115T100000
DTEND;TZID=America/Detroit:20251115T170000
DTSTAMP:20260424T113249
CREATED:20251030T145311Z
LAST-MODIFIED:20251030T145311Z
UID:5569-1763200800-1763226000@whitehalltwp.org
SUMMARY:Whitehall Twp Leaf & Brush Station
DESCRIPTION:HOURS OF OPERATION:\n\nMonday\, 1:00 p.m. – 6:00 p.m.\nWednesday\, 1:00 p.m. – 6:00 p.m.\nSaturday\, 10:00 a.m. – 5:00 p.m.
URL:https://whitehalltwp.org/events/whitehall-twp-leaf-brush-station-23/
LOCATION:Whitehall Rd @ Benston Rd\, Whitehall Rd @ Benston Rd\, Whitehall\, MI\, 49461\, United States
CATEGORIES:Waste
ORGANIZER;CN="Dennis Kroll":MAILTO:supervisor@whitehalltwp.org
END:VEVENT
BEGIN:VEVENT
DTSTART;VALUE=DATE:20251114
DTEND;VALUE=DATE:20251115
DTSTAMP:20260424T113249
CREATED:20251015T141221Z
LAST-MODIFIED:20251015T141221Z
UID:5519-1763078400-1763164799@whitehalltwp.org
SUMMARY:Office Closed
DESCRIPTION:
URL:https://whitehalltwp.org/events/office-closed-13/
LOCATION:Whitehall Township Hall\, 7644 Durham Rd\, Whitehall\, MI\, 49461\, United States
CATEGORIES:Office
END:VEVENT
BEGIN:VEVENT
DTSTART;TZID=America/Detroit:20251113T130000
DTEND;TZID=America/Detroit:20251113T160000
DTSTAMP:20260424T113249
CREATED:20250923T172544Z
LAST-MODIFIED:20251030T185805Z
UID:5387-1763038800-1763049600@whitehalltwp.org
SUMMARY:Treasurer Open Office hours
DESCRIPTION:Tuesday 1-4 p.m.\nWednesday 9 a.m. – 1 p.m.\nThursday 1-4 p.m.
URL:https://whitehalltwp.org/events/treasurer-open-office-hours-2/
LOCATION:Whitehall Township Hall\, 7644 Durham Rd\, Whitehall\, MI\, 49461\, United States
CATEGORIES:Treasurer
END:VEVENT
BEGIN:VEVENT
DTSTART;TZID=America/Detroit:20251112T100000
DTEND;TZID=America/Detroit:20251112T140000
DTSTAMP:20260424T113249
CREATED:20250903T182233Z
LAST-MODIFIED:20251030T183942Z
UID:5311-1762941600-1762956000@whitehalltwp.org
SUMMARY:Clerk Open Office hours
DESCRIPTION:In Office \n\nMonday\, 10:00 AM – 2:00 PM\nWednesday\, 10:00 AM – 2:00 PM
URL:https://whitehalltwp.org/events/clerk-in-office-4/
LOCATION:Whitehall Township Hall\, 7644 Durham Rd\, Whitehall\, MI\, 49461\, United States
CATEGORIES:Clerk
ATTACH;FMTTYPE=image/png:https://whitehalltwp.org/wp-content/uploads/2025/08/Screenshot-2025-08-23-at-12.04.01-PM.png
ORGANIZER;CN="Ilene R. Nichols":MAILTO:Clerk@whitehalltwp.org
END:VEVENT
BEGIN:VEVENT
DTSTART;TZID=America/Detroit:20251112T090000
DTEND;TZID=America/Detroit:20251112T160000
DTSTAMP:20260424T113249
CREATED:20251030T145927Z
LAST-MODIFIED:20251030T145927Z
UID:5582-1762938000-1762963200@whitehalltwp.org
SUMMARY:Whitehall Transfer Station
DESCRIPTION:HOURS OF OPERATION:\nOctober- March \n\nWEDNESDAY\, 9 a.m. – 4 p.m.\nSATURDAY\, 9 a.m. – 4 p.m.\n\nApril-September \n\nWEDNESDAY\, 8 a.m. – 4 p.m.\nSATURDAY\, 8 a.m. – 4 p.m.
URL:https://whitehalltwp.org/events/whitehall-transfer-station-16/
LOCATION:Whitehall Transfer Station\, 2100 Holton Whitehall Road\, Whitehall\, MI\, 49461\, United States
CATEGORIES:Waste
ATTACH;FMTTYPE=image/jpeg:https://whitehalltwp.org/wp-content/uploads/2025/08/Transfer-Station-2025.jpg
END:VEVENT
BEGIN:VEVENT
DTSTART;TZID=America/Detroit:20251112T090000
DTEND;TZID=America/Detroit:20251112T130000
DTSTAMP:20260424T113249
CREATED:20251030T182205Z
LAST-MODIFIED:20251030T182205Z
UID:5594-1762938000-1762952400@whitehalltwp.org
SUMMARY:Treasurer open office hours
DESCRIPTION:In Office \n\nTuesday 1:00 – 4 P.M.\nWednesday\, 9:00 A.M. – 1:00 P.M.\nThursday 1 – 4 P.M.
URL:https://whitehalltwp.org/events/treasurer-open-office-hours-18/
LOCATION:Whitehall Township Hall\, 7644 Durham Rd\, Whitehall\, MI\, 49461\, United States
CATEGORIES:Treasurer
ATTACH;FMTTYPE=image/png:https://whitehalltwp.org/wp-content/uploads/2025/08/Screenshot-2025-08-23-at-12.04.01-PM.png
ORGANIZER;CN="Rhonda Boyd":MAILTO:treasurer@whitehalltwp.org
END:VEVENT
BEGIN:VEVENT
DTSTART;VALUE=DATE:20251111
DTEND;VALUE=DATE:20251112
DTSTAMP:20260424T113249
CREATED:20251021T163057Z
LAST-MODIFIED:20251021T163057Z
UID:5546-1762819200-1762905599@whitehalltwp.org
SUMMARY:Office Closed
DESCRIPTION:
URL:https://whitehalltwp.org/events/office-closed-17/
LOCATION:Whitehall Township Hall\, 7644 Durham Rd\, Whitehall\, MI\, 49461\, United States
CATEGORIES:Office
END:VEVENT
BEGIN:VEVENT
DTSTART;TZID=America/Detroit:20251110T100000
DTEND;TZID=America/Detroit:20251110T140000
DTSTAMP:20260424T113249
CREATED:20250823T161118Z
LAST-MODIFIED:20251030T183157Z
UID:5172-1762768800-1762783200@whitehalltwp.org
SUMMARY:Clerk Open Office hours
DESCRIPTION:In Office \n\nMonday\, 10:00 AM – 2:00 PM\nWednesday\, 10:00 AM – 2:00 PM
URL:https://whitehalltwp.org/events/clerk-in-office/
LOCATION:Whitehall Township Hall\, 7644 Durham Rd\, Whitehall\, MI\, 49461\, United States
CATEGORIES:Clerk
ATTACH;FMTTYPE=image/png:https://whitehalltwp.org/wp-content/uploads/2025/08/Screenshot-2025-08-23-at-12.04.01-PM.png
ORGANIZER;CN="Ilene R. Nichols":MAILTO:Clerk@whitehalltwp.org
END:VEVENT
BEGIN:VEVENT
DTSTART;TZID=America/Detroit:20251108T100000
DTEND;TZID=America/Detroit:20251108T170000
DTSTAMP:20260424T113249
CREATED:20251030T145227Z
LAST-MODIFIED:20251030T145244Z
UID:5568-1762596000-1762621200@whitehalltwp.org
SUMMARY:Whitehall Twp Leaf & Brush Station
DESCRIPTION:HOURS OF OPERATION:\n\nMonday\, 1:00 p.m. – 6:00 p.m.\nWednesday\, 1:00 p.m. – 6:00 p.m.\nSaturday\, 10:00 a.m. – 5:00 p.m.
URL:https://whitehalltwp.org/events/whitehall-twp-leaf-brush-station-22/
LOCATION:Whitehall Rd @ Benston Rd\, Whitehall Rd @ Benston Rd\, Whitehall\, MI\, 49461\, United States
CATEGORIES:Waste
ORGANIZER;CN="Dennis Kroll":MAILTO:supervisor@whitehalltwp.org
END:VEVENT
BEGIN:VEVENT
DTSTART;TZID=America/Detroit:20251108T090000
DTEND;TZID=America/Detroit:20251108T160000
DTSTAMP:20260424T113249
CREATED:20251030T145908Z
LAST-MODIFIED:20251030T145908Z
UID:5580-1762592400-1762617600@whitehalltwp.org
SUMMARY:Whitehall Transfer Station
DESCRIPTION:HOURS OF OPERATION:\nOctober- March \n\nWEDNESDAY\, 9 a.m. – 4 p.m.\nSATURDAY\, 9 a.m. – 4 p.m.\n\nApril-September \n\nWEDNESDAY\, 8 a.m. – 4 p.m.\nSATURDAY\, 8 a.m. – 4 p.m.
URL:https://whitehalltwp.org/events/whitehall-transfer-station-15/
LOCATION:Whitehall Transfer Station\, 2100 Holton Whitehall Road\, Whitehall\, MI\, 49461\, United States
CATEGORIES:Waste
ATTACH;FMTTYPE=image/jpeg:https://whitehalltwp.org/wp-content/uploads/2025/08/Transfer-Station-2025.jpg
END:VEVENT
BEGIN:VEVENT
DTSTART;VALUE=DATE:20251107
DTEND;VALUE=DATE:20251108
DTSTAMP:20260424T113249
CREATED:20251015T141151Z
LAST-MODIFIED:20251015T141151Z
UID:5517-1762473600-1762559999@whitehalltwp.org
SUMMARY:Office Closed
DESCRIPTION:
URL:https://whitehalltwp.org/events/office-closed-12/
LOCATION:Whitehall Township Hall\, 7644 Durham Rd\, Whitehall\, MI\, 49461\, United States
CATEGORIES:Office
END:VEVENT
BEGIN:VEVENT
DTSTART;TZID=America/Detroit:20251106T130000
DTEND;TZID=America/Detroit:20251106T160000
DTSTAMP:20260424T113249
CREATED:20251030T191122Z
LAST-MODIFIED:20251030T191122Z
UID:5614-1762434000-1762444800@whitehalltwp.org
SUMMARY:Treasurer Open Office hours
DESCRIPTION:In Office \n\nTuesday 1:00 – 4 P.M.\nWednesday\, 9:00 A.M. – 1:00 P.M.\nThursday 1 – 4 P.M.
URL:https://whitehalltwp.org/events/treasurer-open-office-hours-23/
LOCATION:Whitehall Township Hall\, 7644 Durham Rd\, Whitehall\, MI\, 49461\, United States
CATEGORIES:Treasurer
ATTACH;FMTTYPE=image/png:https://whitehalltwp.org/wp-content/uploads/2025/08/Screenshot-2025-08-23-at-12.04.01-PM.png
ORGANIZER;CN="Rhonda Boyd":MAILTO:treasurer@whitehalltwp.org
END:VEVENT
BEGIN:VEVENT
DTSTART;TZID=America/Detroit:20251105T180000
DTEND;TZID=America/Detroit:20251105T190000
DTSTAMP:20260424T113249
CREATED:20251015T144212Z
LAST-MODIFIED:20251105T170151Z
UID:5534-1762365600-1762369200@whitehalltwp.org
SUMMARY:Planning Commission Meeting
DESCRIPTION:
URL:https://whitehalltwp.org/events/planning-commission-meeting-3/
LOCATION:Whitehall Township Hall\, 7644 Durham Rd\, Whitehall\, MI\, 49461\, United States
CATEGORIES:Planning Commission
ATTACH;FMTTYPE=image/jpeg:https://whitehalltwp.org/wp-content/uploads/2025/10/2025-nov-agenda.jpg
END:VEVENT
BEGIN:VEVENT
DTSTART;TZID=America/Detroit:20251105T130000
DTEND;TZID=America/Detroit:20251105T180000
DTSTAMP:20260424T113249
CREATED:20251030T141804Z
LAST-MODIFIED:20251030T141804Z
UID:5564-1762347600-1762365600@whitehalltwp.org
SUMMARY:Whitehall Twp Leaf & Brush Station
DESCRIPTION:HOURS OF OPERATION:\n\nMonday\, 1:00 p.m. – 6:00 p.m.\nWednesday\, 1:00 p.m. – 6:00 p.m.\nSaturday\, 10:00 a.m. – 5:00 p.m.
URL:https://whitehalltwp.org/events/whitehall-twp-leaf-brush-station-21/
LOCATION:Whitehall Rd @ Benston Rd\, Whitehall Rd @ Benston Rd\, Whitehall\, MI\, 49461\, United States
CATEGORIES:Waste
ORGANIZER;CN="Dennis Kroll":MAILTO:supervisor@whitehalltwp.org
END:VEVENT
BEGIN:VEVENT
DTSTART;TZID=America/Detroit:20251105T100000
DTEND;TZID=America/Detroit:20251105T140000
DTSTAMP:20260424T113249
CREATED:20250823T161732Z
LAST-MODIFIED:20251030T182931Z
UID:5179-1762336800-1762351200@whitehalltwp.org
SUMMARY:Clerk Open Office hours
DESCRIPTION:In Office \n\nMonday\, 10:00 AM – 2:00 PM\nWednesday\, 10:00 AM – 2:00 PM
URL:https://whitehalltwp.org/events/clerk-in-office-2/
LOCATION:Whitehall Township Hall\, 7644 Durham Rd\, Whitehall\, MI\, 49461\, United States
CATEGORIES:Clerk
ATTACH;FMTTYPE=image/png:https://whitehalltwp.org/wp-content/uploads/2025/08/Screenshot-2025-08-23-at-12.04.01-PM.png
ORGANIZER;CN="Ilene R. Nichols":MAILTO:Clerk@whitehalltwp.org
END:VEVENT
BEGIN:VEVENT
DTSTART;TZID=America/Detroit:20251105T090000
DTEND;TZID=America/Detroit:20251105T160000
DTSTAMP:20260424T113249
CREATED:20251030T145838Z
LAST-MODIFIED:20251030T145838Z
UID:5578-1762333200-1762358400@whitehalltwp.org
SUMMARY:Whitehall Transfer Station
DESCRIPTION:HOURS OF OPERATION:\nOctober- March \n\nWEDNESDAY\, 9 a.m. – 4 p.m.\nSATURDAY\, 9 a.m. – 4 p.m.\n\nApril-September \n\nWEDNESDAY\, 8 a.m. – 4 p.m.\nSATURDAY\, 8 a.m. – 4 p.m.
URL:https://whitehalltwp.org/events/whitehall-transfer-station-14/
LOCATION:Whitehall Transfer Station\, 2100 Holton Whitehall Road\, Whitehall\, MI\, 49461\, United States
CATEGORIES:Waste
ATTACH;FMTTYPE=image/jpeg:https://whitehalltwp.org/wp-content/uploads/2025/08/Transfer-Station-2025.jpg
END:VEVENT
END:VCALENDAR