BEGIN:VCALENDAR
VERSION:2.0
PRODID:-//Whitehall Township - ECPv6.15.20//NONSGML v1.0//EN
CALSCALE:GREGORIAN
METHOD:PUBLISH
X-WR-CALNAME:Whitehall Township
X-ORIGINAL-URL:https://whitehalltwp.org
X-WR-CALDESC:Events for Whitehall Township
REFRESH-INTERVAL;VALUE=DURATION:PT1H
X-Robots-Tag:noindex
X-PUBLISHED-TTL:PT1H
BEGIN:VTIMEZONE
TZID:America/Detroit
BEGIN:DAYLIGHT
TZOFFSETFROM:-0500
TZOFFSETTO:-0400
TZNAME:EDT
DTSTART:20240310T070000
END:DAYLIGHT
BEGIN:STANDARD
TZOFFSETFROM:-0400
TZOFFSETTO:-0500
TZNAME:EST
DTSTART:20241103T060000
END:STANDARD
BEGIN:DAYLIGHT
TZOFFSETFROM:-0500
TZOFFSETTO:-0400
TZNAME:EDT
DTSTART:20250309T070000
END:DAYLIGHT
BEGIN:STANDARD
TZOFFSETFROM:-0400
TZOFFSETTO:-0500
TZNAME:EST
DTSTART:20251102T060000
END:STANDARD
BEGIN:DAYLIGHT
TZOFFSETFROM:-0500
TZOFFSETTO:-0400
TZNAME:EDT
DTSTART:20260308T070000
END:DAYLIGHT
BEGIN:STANDARD
TZOFFSETFROM:-0400
TZOFFSETTO:-0500
TZNAME:EST
DTSTART:20261101T060000
END:STANDARD
END:VTIMEZONE
BEGIN:VEVENT
DTSTART;VALUE=DATE:20251010
DTEND;VALUE=DATE:20251011
DTSTAMP:20260425T064949
CREATED:20251015T140919Z
LAST-MODIFIED:20251015T140919Z
UID:5509-1760054400-1760140799@whitehalltwp.org
SUMMARY:Office Closed
DESCRIPTION:
URL:https://whitehalltwp.org/events/office-closed-8/
LOCATION:Whitehall Township Hall\, 7644 Durham Rd\, Whitehall\, MI\, 49461\, United States
CATEGORIES:Office
END:VEVENT
BEGIN:VEVENT
DTSTART;TZID=America/Detroit:20251009T130000
DTEND;TZID=America/Detroit:20251009T160000
DTSTAMP:20260425T064949
CREATED:20251001T164814Z
LAST-MODIFIED:20251001T164814Z
UID:5414-1760014800-1760025600@whitehalltwp.org
SUMMARY:Treasurer Open Office hours
DESCRIPTION:Tuesday 1-4 p.m.\nWednesday 9 a.m. – 1 p.m.\nThursday 1-4 p.m.
URL:https://whitehalltwp.org/events/treasurer-open-office-hours-9/
LOCATION:Whitehall Township Hall\, 7644 Durham Rd\, Whitehall\, MI\, 49461\, United States
CATEGORIES:Treasurer
END:VEVENT
BEGIN:VEVENT
DTSTART;TZID=America/Detroit:20251008T130000
DTEND;TZID=America/Detroit:20251008T180000
DTSTAMP:20260425T064949
CREATED:20251009T172158Z
LAST-MODIFIED:20251009T172158Z
UID:5457-1759928400-1759946400@whitehalltwp.org
SUMMARY:Whitehall Twp Leaf & Brush Station
DESCRIPTION:HOURS OF OPERATION:\n\nMonday\, 1:00 p.m. – 6:00 p.m.\nWednesday\, 1:00 p.m. – 6:00 p.m.\nSaturday\, 10:00 a.m. – 5:00 p.m.
URL:https://whitehalltwp.org/events/whitehall-twp-leaf-brush-station-10/
LOCATION:Whitehall Rd @ Benston Rd\, Whitehall Rd @ Benston Rd\, Whitehall\, MI\, 49461\, United States
CATEGORIES:Waste
ORGANIZER;CN="Dennis Kroll":MAILTO:supervisor@whitehalltwp.org
END:VEVENT
BEGIN:VEVENT
DTSTART;TZID=America/Detroit:20251008T100000
DTEND;TZID=America/Detroit:20251008T140000
DTSTAMP:20260425T064949
CREATED:20251001T185050Z
LAST-MODIFIED:20251001T185103Z
UID:5425-1759917600-1759932000@whitehalltwp.org
SUMMARY:Clerk Open Office hours
DESCRIPTION:  \n\nMonday\, 10:00 AM – 2:00 PM\nWednesday\, 10:00 AM – 2:00 PM
URL:https://whitehalltwp.org/events/clerk-open-office-hours/
LOCATION:Whitehall Township Hall\, 7644 Durham Rd\, Whitehall\, MI\, 49461\, United States
CATEGORIES:Clerk
ATTACH;FMTTYPE=image/png:https://whitehalltwp.org/wp-content/uploads/2025/08/Screenshot-2025-08-23-at-12.04.01-PM.png
ORGANIZER;CN="Ilene R. Nichols":MAILTO:Clerk@whitehalltwp.org
END:VEVENT
BEGIN:VEVENT
DTSTART;TZID=America/Detroit:20251008T090000
DTEND;TZID=America/Detroit:20251008T130000
DTSTAMP:20260425T064949
CREATED:20251001T160311Z
LAST-MODIFIED:20251001T160311Z
UID:5405-1759914000-1759928400@whitehalltwp.org
SUMMARY:Treasurer open office hours
DESCRIPTION:In Office \n\nTuesday 1:00 – 4 P.M.\nWednesday\, 9:00 A.M. – 1:00 P.M.\nThursday 1 – 4 P.M.
URL:https://whitehalltwp.org/events/treasurer-open-office-hours-5/
LOCATION:Whitehall Township Hall\, 7644 Durham Rd\, Whitehall\, MI\, 49461\, United States
CATEGORIES:Treasurer
ATTACH;FMTTYPE=image/png:https://whitehalltwp.org/wp-content/uploads/2025/08/Screenshot-2025-08-23-at-12.04.01-PM.png
ORGANIZER;CN="Rhonda Boyd":MAILTO:treasurer@whitehalltwp.org
END:VEVENT
BEGIN:VEVENT
DTSTART;TZID=America/Detroit:20251007T130000
DTEND;TZID=America/Detroit:20251007T160000
DTSTAMP:20260425T064949
CREATED:20251001T172051Z
LAST-MODIFIED:20251001T172051Z
UID:5423-1759842000-1759852800@whitehalltwp.org
SUMMARY:Treasurer Open Office hours
DESCRIPTION:Tuesday 1-4 p.m.\nWednesday 9 a.m. – 1 p.m.\nThursday 1-4 p.m.
URL:https://whitehalltwp.org/events/treasurer-open-office-hours-11/
LOCATION:Whitehall Township Hall\, 7644 Durham Rd\, Whitehall\, MI\, 49461\, United States
CATEGORIES:Treasurer
ORGANIZER;CN="Rhonda Boyd":MAILTO:treasurer@whitehalltwp.org
END:VEVENT
BEGIN:VEVENT
DTSTART;TZID=America/Detroit:20251006T130000
DTEND;TZID=America/Detroit:20251006T180000
DTSTAMP:20260425T064949
CREATED:20251009T172054Z
LAST-MODIFIED:20251009T172054Z
UID:5455-1759755600-1759773600@whitehalltwp.org
SUMMARY:Whitehall Twp Leaf & Brush Station
DESCRIPTION:HOURS OF OPERATION:\n\nMonday\, 1:00 p.m. – 6:00 p.m.\nWednesday\, 1:00 p.m. – 6:00 p.m.\nSaturday\, 10:00 a.m. – 5:00 p.m.
URL:https://whitehalltwp.org/events/whitehall-twp-leaf-brush-station-9/
LOCATION:Whitehall Rd @ Benston Rd\, Whitehall Rd @ Benston Rd\, Whitehall\, MI\, 49461\, United States
CATEGORIES:Waste
ORGANIZER;CN="Dennis Kroll":MAILTO:supervisor@whitehalltwp.org
END:VEVENT
BEGIN:VEVENT
DTSTART;TZID=America/Detroit:20251006T100000
DTEND;TZID=America/Detroit:20251006T140000
DTSTAMP:20260425T064949
CREATED:20251001T185311Z
LAST-MODIFIED:20251001T185311Z
UID:5438-1759744800-1759759200@whitehalltwp.org
SUMMARY:Clerk Open Office hours
DESCRIPTION:  \n\nMonday\, 10:00 AM – 2:00 PM\nWednesday\, 10:00 AM – 2:00 PM
URL:https://whitehalltwp.org/events/clerk-open-office-hours-2/
LOCATION:Whitehall Township Hall\, 7644 Durham Rd\, Whitehall\, MI\, 49461\, United States
CATEGORIES:Clerk
ATTACH;FMTTYPE=image/png:https://whitehalltwp.org/wp-content/uploads/2025/08/Screenshot-2025-08-23-at-12.04.01-PM.png
ORGANIZER;CN="Ilene R. Nichols":MAILTO:Clerk@whitehalltwp.org
END:VEVENT
BEGIN:VEVENT
DTSTART;TZID=America/Detroit:20251006T100000
DTEND;TZID=America/Detroit:20251006T110000
DTSTAMP:20260425T064949
CREATED:20251001T154652Z
LAST-MODIFIED:20251001T154652Z
UID:5402-1759744800-1759748400@whitehalltwp.org
SUMMARY:Board Special Meeting
DESCRIPTION:
URL:https://whitehalltwp.org/events/board-special-meeting/
LOCATION:Whitehall Township Hall\, 7644 Durham Rd\, Whitehall\, MI\, 49461\, United States
CATEGORIES:Regular
ATTACH;FMTTYPE=application/pdf:https://whitehalltwp.org/wp-content/uploads/2025/10/Special-Meeting-Notice.pdf
ORGANIZER;CN="Dennis Kroll":MAILTO:supervisor@whitehalltwp.org
END:VEVENT
BEGIN:VEVENT
DTSTART;TZID=America/Detroit:20251004T100000
DTEND;TZID=America/Detroit:20251004T170000
DTSTAMP:20260425T064949
CREATED:20251001T171340Z
LAST-MODIFIED:20251001T171340Z
UID:5419-1759572000-1759597200@whitehalltwp.org
SUMMARY:Whitehall Twp Leaf & Brush Station
DESCRIPTION:HOURS OF OPERATION:\n\nMonday\, 1:00 p.m. – 6:00 p.m.\nWednesday\, 1:00 p.m. – 6:00 p.m.\nSaturday\, 10:00 a.m. – 5:00 p.m.
URL:https://whitehalltwp.org/events/whitehall-twp-leaf-brush-station-7/
LOCATION:Whitehall Rd @ Benston Rd\, Whitehall Rd @ Benston Rd\, Whitehall\, MI\, 49461\, United States
CATEGORIES:Waste
ORGANIZER;CN="Dennis Kroll":MAILTO:supervisor@whitehalltwp.org
END:VEVENT
BEGIN:VEVENT
DTSTART;VALUE=DATE:20251003
DTEND;VALUE=DATE:20251004
DTSTAMP:20260425T064949
CREATED:20251015T140640Z
LAST-MODIFIED:20251015T140640Z
UID:5507-1759449600-1759535999@whitehalltwp.org
SUMMARY:Office Closed
DESCRIPTION:
URL:https://whitehalltwp.org/events/office-closed-7/
LOCATION:Whitehall Township Hall\, 7644 Durham Rd\, Whitehall\, MI\, 49461\, United States
CATEGORIES:Office
END:VEVENT
BEGIN:VEVENT
DTSTART;TZID=America/Detroit:20251002T130000
DTEND;TZID=America/Detroit:20251002T160000
DTSTAMP:20260425T064949
CREATED:20251001T154406Z
LAST-MODIFIED:20251001T154406Z
UID:5400-1759410000-1759420800@whitehalltwp.org
SUMMARY:Treasurer Open Office hours
DESCRIPTION:Tuesday 1-4 p.m.\nWednesday 9 a.m. – 1 p.m.\nThursday 1-4 p.m.
URL:https://whitehalltwp.org/events/treasurer-open-office-hours-4/
LOCATION:Whitehall Township Hall\, 7644 Durham Rd\, Whitehall\, MI\, 49461\, United States
CATEGORIES:Treasurer
END:VEVENT
BEGIN:VEVENT
DTSTART;TZID=America/Detroit:20251001T180000
DTEND;TZID=America/Detroit:20251001T190000
DTSTAMP:20260425T064949
CREATED:20250914T152152Z
LAST-MODIFIED:20250917T161453Z
UID:5323-1759341600-1759345200@whitehalltwp.org
SUMMARY:Planning Commission Meeting
DESCRIPTION:
URL:https://whitehalltwp.org/events/planning-commission-meeting-2/
LOCATION:Whitehall Township Hall\, 7644 Durham Rd\, Whitehall\, MI\, 49461\, United States
CATEGORIES:Planning Commission
ATTACH;FMTTYPE=image/jpeg:https://whitehalltwp.org/wp-content/uploads/2025/09/Whitehall-Twp-Planning-Meeting-1.jpg
END:VEVENT
BEGIN:VEVENT
DTSTART;TZID=America/Detroit:20251001T130000
DTEND;TZID=America/Detroit:20251001T180000
DTSTAMP:20260425T064949
CREATED:20251001T171744Z
LAST-MODIFIED:20251001T171744Z
UID:5421-1759323600-1759341600@whitehalltwp.org
SUMMARY:Whitehall Twp Leaf & Brush Station
DESCRIPTION:HOURS OF OPERATION:\n\nWednesday\, 1:00 p.m. – 6:00 p.m.\nSaturday\, 10:00 a.m. – 5:00 p.m.
URL:https://whitehalltwp.org/events/whitehall-twp-leaf-brush-station-8/
LOCATION:Whitehall Rd @ Benston Rd\, Whitehall Rd @ Benston Rd\, Whitehall\, MI\, 49461\, United States
CATEGORIES:Waste
ORGANIZER;CN="Dennis Kroll":MAILTO:supervisor@whitehalltwp.org
END:VEVENT
BEGIN:VEVENT
DTSTART;TZID=America/Detroit:20250927T100000
DTEND;TZID=America/Detroit:20250927T170000
DTSTAMP:20260425T064949
CREATED:20250903T180042Z
LAST-MODIFIED:20250903T180042Z
UID:5291-1758967200-1758992400@whitehalltwp.org
SUMMARY:Whitehall Twp Leaf & Brush Station
DESCRIPTION:HOURS OF OPERATION:\n\nWednesday\, 2:00 p.m. – 6:00 p.m.\nSaturday\, 10:00 a.m. – 5:00 p.m.
URL:https://whitehalltwp.org/events/whitehall-twp-leaf-brush-station-4/
LOCATION:Whitehall Rd @ Benston Rd\, Whitehall Rd @ Benston Rd\, Whitehall\, MI\, 49461\, United States
CATEGORIES:Waste
END:VEVENT
BEGIN:VEVENT
DTSTART;VALUE=DATE:20250926
DTEND;VALUE=DATE:20250927
DTSTAMP:20260425T064949
CREATED:20250903T174816Z
LAST-MODIFIED:20250903T174816Z
UID:5280-1758844800-1758931199@whitehalltwp.org
SUMMARY:Office Closed
DESCRIPTION:
URL:https://whitehalltwp.org/events/office-closed-6/
LOCATION:Whitehall Township Hall\, 7644 Durham Rd\, Whitehall\, MI\, 49461\, United States
CATEGORIES:Office
ATTACH;FMTTYPE=image/jpeg:https://whitehalltwp.org/wp-content/uploads/2025/09/Office-hours.jpg
END:VEVENT
BEGIN:VEVENT
DTSTART;TZID=America/Detroit:20250924T140000
DTEND;TZID=America/Detroit:20250924T180000
DTSTAMP:20260425T064949
CREATED:20250903T175929Z
LAST-MODIFIED:20250903T175929Z
UID:5292-1758722400-1758736800@whitehalltwp.org
SUMMARY:Whitehall Twp Leaf & Brush Station
DESCRIPTION:HOURS OF OPERATION:\n\nWednesday\, 2:00 p.m. – 6:00 p.m.\nSaturday\, 10:00 a.m. – 5:00 p.m.
URL:https://whitehalltwp.org/events/whitehall-twp-leaf-brush-station-3/
LOCATION:Whitehall Rd @ Benston Rd\, Whitehall Rd @ Benston Rd\, Whitehall\, MI\, 49461\, United States
CATEGORIES:Waste
END:VEVENT
BEGIN:VEVENT
DTSTART;TZID=America/Detroit:20250924T100000
DTEND;TZID=America/Detroit:20250924T140000
DTSTAMP:20260425T064949
CREATED:20250903T182352Z
LAST-MODIFIED:20250903T182934Z
UID:5309-1758708000-1758722400@whitehalltwp.org
SUMMARY:Clerk In Office
DESCRIPTION:In Office \n\nMonday\, 10:00 AM – 2:00 PM\nWednesday\, 10:00 AM – 2:00 PM
URL:https://whitehalltwp.org/events/clerk-in-office-7/
LOCATION:Whitehall Township Hall\, 7644 Durham Rd\, Whitehall\, MI\, 49461\, United States
CATEGORIES:Clerk
ATTACH;FMTTYPE=image/png:https://whitehalltwp.org/wp-content/uploads/2025/08/Screenshot-2025-08-23-at-12.04.01-PM.png
ORGANIZER;CN="Ilene R. Nichols":MAILTO:Clerk@whitehalltwp.org
END:VEVENT
BEGIN:VEVENT
DTSTART;TZID=America/Detroit:20250924T080000
DTEND;TZID=America/Detroit:20250924T160000
DTSTAMP:20260425T064949
CREATED:20250903T182047Z
LAST-MODIFIED:20250903T182047Z
UID:5302-1758700800-1758729600@whitehalltwp.org
SUMMARY:Whitehall Transfer Station
DESCRIPTION:HOURS OF OPERATION:\n\nWEDNESDAY\, 8 a.m. – 4 p.m.\nSATURDAY\, 8 a.m. – 4 p.m.
URL:https://whitehalltwp.org/events/whitehall-transfer-station-7/
LOCATION:Whitehall Transfer Station\, 2100 Holton Whitehall Road\, Whitehall\, MI\, 49461\, United States
CATEGORIES:Waste
ATTACH;FMTTYPE=image/jpeg:https://whitehalltwp.org/wp-content/uploads/2025/08/Transfer-Station-2025.jpg
END:VEVENT
BEGIN:VEVENT
DTSTART;TZID=America/Detroit:20250922T163000
DTEND;TZID=America/Detroit:20250922T173000
DTSTAMP:20260425T064949
CREATED:20250903T184017Z
LAST-MODIFIED:20250917T160952Z
UID:5317-1758558600-1758562200@whitehalltwp.org
SUMMARY:Regular Board Meeting
DESCRIPTION:Whitehall Twp Board Meeting 250922
URL:https://whitehalltwp.org/events/regular-board-meeting/
LOCATION:Whitehall Township Hall\, 7644 Durham Rd\, Whitehall\, MI\, 49461\, United States
CATEGORIES:Regular
ATTACH;FMTTYPE=image/png:https://whitehalltwp.org/wp-content/uploads/2025/09/Screenshot-2025-09-14-at-12.07.49-PM.png
END:VEVENT
BEGIN:VEVENT
DTSTART;TZID=America/Detroit:20250920T100000
DTEND;TZID=America/Detroit:20250920T170000
DTSTAMP:20260425T064949
CREATED:20250903T180142Z
LAST-MODIFIED:20250903T180142Z
UID:5296-1758362400-1758387600@whitehalltwp.org
SUMMARY:Whitehall Twp Leaf & Brush Station
DESCRIPTION:HOURS OF OPERATION:\n\nWednesday\, 2:00 p.m. – 6:00 p.m.\nSaturday\, 10:00 a.m. – 5:00 p.m.
URL:https://whitehalltwp.org/events/whitehall-twp-leaf-brush-station-5/
LOCATION:Whitehall Rd @ Benston Rd\, Whitehall Rd @ Benston Rd\, Whitehall\, MI\, 49461\, United States
CATEGORIES:Waste
END:VEVENT
BEGIN:VEVENT
DTSTART;TZID=America/Detroit:20250920T080000
DTEND;TZID=America/Detroit:20250920T160000
DTSTAMP:20260425T064949
CREATED:20250903T182012Z
LAST-MODIFIED:20250903T182012Z
UID:5303-1758355200-1758384000@whitehalltwp.org
SUMMARY:Whitehall Transfer Station
DESCRIPTION:HOURS OF OPERATION:\n\nWEDNESDAY\, 8 a.m. – 4 p.m.\nSATURDAY\, 8 a.m. – 4 p.m.
URL:https://whitehalltwp.org/events/whitehall-transfer-station-6/
LOCATION:Whitehall Transfer Station\, 2100 Holton Whitehall Road\, Whitehall\, MI\, 49461\, United States
CATEGORIES:Waste
ATTACH;FMTTYPE=image/jpeg:https://whitehalltwp.org/wp-content/uploads/2025/08/Transfer-Station-2025.jpg
END:VEVENT
BEGIN:VEVENT
DTSTART;VALUE=DATE:20250919
DTEND;VALUE=DATE:20250920
DTSTAMP:20260425T064949
CREATED:20250903T174456Z
LAST-MODIFIED:20250903T174456Z
UID:5276-1758240000-1758326399@whitehalltwp.org
SUMMARY:Office Closed
DESCRIPTION:
URL:https://whitehalltwp.org/events/office-closed-5/
LOCATION:MI
CATEGORIES:Office
ATTACH;FMTTYPE=image/jpeg:https://whitehalltwp.org/wp-content/uploads/2025/09/Office-hours.jpg
END:VEVENT
BEGIN:VEVENT
DTSTART;TZID=America/Detroit:20250918T100000
DTEND;TZID=America/Detroit:20250918T110000
DTSTAMP:20260425T064949
CREATED:20250916T214709Z
LAST-MODIFIED:20250916T214709Z
UID:5336-1758189600-1758193200@whitehalltwp.org
SUMMARY:MUSKEGON MUNICIPAL WASTEWATER MANAGEMENT COMMITTEE MEETING
DESCRIPTION:September 18 meeting packet\n\n10:00 AM – 11:00 AM\nLaketon Township Hall
URL:https://whitehalltwp.org/events/muskegon-municipal-wastewater-management-committee-meeting/
LOCATION:Laketon Township Hall\, 2735 W Giles Rd\, North Muskegon\, MI\, 49445\, United States
CATEGORIES:Muskegon Municipal Wastewater Management Committee
ATTACH;FMTTYPE=image/png:https://whitehalltwp.org/wp-content/uploads/2025/09/Screenshot-2025-09-16-at-5.45.43-PM.png
ORGANIZER;CN="Jennifer Hodges":MAILTO:HodgesJe@co.muskegon.mi.us
END:VEVENT
BEGIN:VEVENT
DTSTART;TZID=America/Detroit:20250917T140000
DTEND;TZID=America/Detroit:20250917T180000
DTSTAMP:20260425T064949
CREATED:20250823T181443Z
LAST-MODIFIED:20250903T145802Z
UID:5225-1758117600-1758132000@whitehalltwp.org
SUMMARY:Whitehall Twp Leaf & Brush Station
DESCRIPTION:HOURS OF OPERATION:\n\nWednesday\, 2:00 p.m. – 6:00 p.m.\nSaturday\, 10:00 a.m. – 5:00 p.m.
URL:https://whitehalltwp.org/events/whitehall-twp-leaf-brush-station-2/
LOCATION:Whitehall Rd @ Benston Rd\, Whitehall Rd @ Benston Rd\, Whitehall\, MI\, 49461\, United States
CATEGORIES:Waste
END:VEVENT
BEGIN:VEVENT
DTSTART;TZID=America/Detroit:20250917T100000
DTEND;TZID=America/Detroit:20250917T110000
DTSTAMP:20260425T064949
CREATED:20250916T222615Z
LAST-MODIFIED:20250916T222849Z
UID:5345-1758103200-1758106800@whitehalltwp.org
SUMMARY:MUSKEGON COUNTY ROAD COMMISSION MEETING
DESCRIPTION:Muskegon County Road Commission\n10:00 AM – 11:00 AM\nMCRC.AGENDA09-17-25\nMCRC.MINUTES07-16-25
URL:https://whitehalltwp.org/events/muskegon-county-road-commission-meeting/
LOCATION:Muskegon County Road Commission\, 7700 Apple Avenue\, Muskegon\, MI\, 49442\, United States
CATEGORIES:Muskegon County Road Commission Meeting
ATTACH;FMTTYPE=image/png:https://whitehalltwp.org/wp-content/uploads/2025/09/Screenshot-2025-09-16-at-6.14.11-PM.png
ORGANIZER;CN="John Duff":MAILTO:john@duffhouse.net
END:VEVENT
BEGIN:VEVENT
DTSTART;TZID=America/Detroit:20250917T090000
DTEND;TZID=America/Detroit:20250917T130000
DTSTAMP:20260425T064949
CREATED:20250903T175323Z
LAST-MODIFIED:20250903T183004Z
UID:5288-1758099600-1758114000@whitehalltwp.org
SUMMARY:Treasurer In Office
DESCRIPTION:In Office \n\nMonday\, 9:00 AM – 1:00 PM\nWednesday\, 9:00 AM – 1:00 PM
URL:https://whitehalltwp.org/events/treasurer-in-office-5/
LOCATION:Whitehall Township Hall\, 7644 Durham Rd\, Whitehall\, MI\, 49461\, United States
CATEGORIES:Treasurer
ATTACH;FMTTYPE=image/png:https://whitehalltwp.org/wp-content/uploads/2025/08/Screenshot-2025-08-23-at-12.04.01-PM.png
ORGANIZER;CN="Rhonda Boyd":MAILTO:treasurer@whitehalltwp.org
END:VEVENT
BEGIN:VEVENT
DTSTART;TZID=America/Detroit:20250917T080000
DTEND;TZID=America/Detroit:20250917T160000
DTSTAMP:20260425T064949
CREATED:20250903T181948Z
LAST-MODIFIED:20250903T181948Z
UID:5304-1758096000-1758124800@whitehalltwp.org
SUMMARY:Whitehall Transfer Station
DESCRIPTION:HOURS OF OPERATION:\n\nWEDNESDAY\, 8 a.m. – 4 p.m.\nSATURDAY\, 8 a.m. – 4 p.m.
URL:https://whitehalltwp.org/events/whitehall-transfer-station-5/
LOCATION:Whitehall Transfer Station\, 2100 Holton Whitehall Road\, Whitehall\, MI\, 49461\, United States
CATEGORIES:Waste
ATTACH;FMTTYPE=image/jpeg:https://whitehalltwp.org/wp-content/uploads/2025/08/Transfer-Station-2025.jpg
END:VEVENT
BEGIN:VEVENT
DTSTART;TZID=America/Detroit:20250915T090000
DTEND;TZID=America/Detroit:20250915T130000
DTSTAMP:20260425T064949
CREATED:20250903T175248Z
LAST-MODIFIED:20250903T183029Z
UID:5282-1757926800-1757941200@whitehalltwp.org
SUMMARY:Treasurer In Office
DESCRIPTION:In Office \n\nMonday\, 9:00 AM – 1:00 PM\nWednesday\, 9:00 AM – 1:00 PM
URL:https://whitehalltwp.org/events/treasurer-in-office-4/
LOCATION:Whitehall Township Hall\, 7644 Durham Rd\, Whitehall\, MI\, 49461\, United States
CATEGORIES:Treasurer
ATTACH;FMTTYPE=image/png:https://whitehalltwp.org/wp-content/uploads/2025/08/Screenshot-2025-08-23-at-12.04.01-PM.png
ORGANIZER;CN="Rhonda Boyd":MAILTO:treasurer@whitehalltwp.org
END:VEVENT
BEGIN:VEVENT
DTSTART;TZID=America/Detroit:20250913T100000
DTEND;TZID=America/Detroit:20250913T170000
DTSTAMP:20260425T064949
CREATED:20250903T180214Z
LAST-MODIFIED:20250903T180214Z
UID:5295-1757757600-1757782800@whitehalltwp.org
SUMMARY:Whitehall Twp Leaf & Brush Station
DESCRIPTION:HOURS OF OPERATION:\n\nWednesday\, 2:00 p.m. – 6:00 p.m.\nSaturday\, 10:00 a.m. – 5:00 p.m.
URL:https://whitehalltwp.org/events/whitehall-twp-leaf-brush-station-6/
LOCATION:Whitehall Rd @ Benston Rd\, Whitehall Rd @ Benston Rd\, Whitehall\, MI\, 49461\, United States
CATEGORIES:Waste
END:VEVENT
END:VCALENDAR