BEGIN:VCALENDAR
VERSION:2.0
PRODID:-//Whitehall Township - ECPv6.15.20//NONSGML v1.0//EN
CALSCALE:GREGORIAN
METHOD:PUBLISH
X-WR-CALNAME:Whitehall Township
X-ORIGINAL-URL:https://whitehalltwp.org
X-WR-CALDESC:Events for Whitehall Township
REFRESH-INTERVAL;VALUE=DURATION:PT1H
X-Robots-Tag:noindex
X-PUBLISHED-TTL:PT1H
BEGIN:VTIMEZONE
TZID:America/Detroit
BEGIN:DAYLIGHT
TZOFFSETFROM:-0500
TZOFFSETTO:-0400
TZNAME:EDT
DTSTART:20240310T070000
END:DAYLIGHT
BEGIN:STANDARD
TZOFFSETFROM:-0400
TZOFFSETTO:-0500
TZNAME:EST
DTSTART:20241103T060000
END:STANDARD
BEGIN:DAYLIGHT
TZOFFSETFROM:-0500
TZOFFSETTO:-0400
TZNAME:EDT
DTSTART:20250309T070000
END:DAYLIGHT
BEGIN:STANDARD
TZOFFSETFROM:-0400
TZOFFSETTO:-0500
TZNAME:EST
DTSTART:20251102T060000
END:STANDARD
BEGIN:DAYLIGHT
TZOFFSETFROM:-0500
TZOFFSETTO:-0400
TZNAME:EDT
DTSTART:20260308T070000
END:DAYLIGHT
BEGIN:STANDARD
TZOFFSETFROM:-0400
TZOFFSETTO:-0500
TZNAME:EST
DTSTART:20261101T060000
END:STANDARD
END:VTIMEZONE
BEGIN:VEVENT
DTSTART;TZID=America/Detroit:20250910T090000
DTEND;TZID=America/Detroit:20250910T130000
DTSTAMP:20260425T122245
CREATED:20250903T175205Z
LAST-MODIFIED:20250903T183334Z
UID:5283-1757494800-1757509200@whitehalltwp.org
SUMMARY:Treasurer In Office
DESCRIPTION:In Office \n\nMonday\, 9:00 AM – 1:00 PM\nWednesday\, 9:00 AM – 1:00 PM
URL:https://whitehalltwp.org/events/treasurer-in-office-3/
LOCATION:Whitehall Township Hall\, 7644 Durham Rd\, Whitehall\, MI\, 49461\, United States
CATEGORIES:Treasurer
ATTACH;FMTTYPE=image/png:https://whitehalltwp.org/wp-content/uploads/2025/08/Screenshot-2025-08-23-at-12.04.01-PM.png
ORGANIZER;CN="Rhonda Boyd":MAILTO:treasurer@whitehalltwp.org
END:VEVENT
BEGIN:VEVENT
DTSTART;TZID=America/Detroit:20250910T080000
DTEND;TZID=America/Detroit:20250910T160000
DTSTAMP:20260425T122245
CREATED:20250823T174523Z
LAST-MODIFIED:20250903T172133Z
UID:5211-1757491200-1757520000@whitehalltwp.org
SUMMARY:Whitehall Transfer Station
DESCRIPTION:HOURS OF OPERATION:\n\nWEDNESDAY\, 8 a.m. – 4 p.m.\nSATURDAY\, 8 a.m. – 4 p.m.
URL:https://whitehalltwp.org/events/whitehall-transfer-station-2/
LOCATION:Whitehall Transfer Station\, 2100 Holton Whitehall Road\, Whitehall\, MI\, 49461\, United States
CATEGORIES:Waste
ATTACH;FMTTYPE=image/jpeg:https://whitehalltwp.org/wp-content/uploads/2025/08/Transfer-Station-2025.jpg
END:VEVENT
BEGIN:VEVENT
DTSTART;TZID=America/Detroit:20250908T090000
DTEND;TZID=America/Detroit:20250908T130000
DTSTAMP:20260425T122245
CREATED:20250823T162841Z
LAST-MODIFIED:20250903T183659Z
UID:5184-1757322000-1757336400@whitehalltwp.org
SUMMARY:Treasurer In Office
DESCRIPTION:In Office \n\nMonday\, 9:00 AM – 1:00 PM\nWednesday\, 9:00 AM – 1:00 PM
URL:https://whitehalltwp.org/events/treasurer-in-office/
LOCATION:Whitehall Township Hall\, 7644 Durham Rd\, Whitehall\, MI\, 49461\, United States
CATEGORIES:Treasurer
ATTACH;FMTTYPE=image/png:https://whitehalltwp.org/wp-content/uploads/2025/08/Screenshot-2025-08-23-at-12.04.01-PM.png
ORGANIZER;CN="Rhonda Boyd":MAILTO:treasurer@whitehalltwp.org
END:VEVENT
BEGIN:VEVENT
DTSTART;TZID=America/Detroit:20250906T100000
DTEND;TZID=America/Detroit:20250906T170000
DTSTAMP:20260425T122245
CREATED:20250823T181342Z
LAST-MODIFIED:20250903T145510Z
UID:5223-1757152800-1757178000@whitehalltwp.org
SUMMARY:Whitehall Twp Leaf & Brush Station
DESCRIPTION:HOURS OF OPERATION:\n\nWednesday\, 2:00 p.m. – 6:00 p.m.\nSaturday\, 10:00 a.m. – 5:00 p.m.
URL:https://whitehalltwp.org/events/whitehall-twp-leaf-brush-station/
LOCATION:Whitehall Rd @ Benston Rd\, Whitehall Rd @ Benston Rd\, Whitehall\, MI\, 49461\, United States
CATEGORIES:Waste
END:VEVENT
BEGIN:VEVENT
DTSTART;TZID=America/Detroit:20250906T080000
DTEND;TZID=America/Detroit:20250906T160000
DTSTAMP:20260425T122245
CREATED:20250823T174002Z
LAST-MODIFIED:20250903T172330Z
UID:5206-1757145600-1757174400@whitehalltwp.org
SUMMARY:Whitehall Transfer Station
DESCRIPTION:HOURS OF OPERATION:\n\nWEDNESDAY\, 8 a.m. – 4 p.m.\nSATURDAY\, 8 a.m. – 4 p.m.
URL:https://whitehalltwp.org/events/whitehall-transfer-station/
LOCATION:Whitehall Transfer Station\, 2100 Holton Whitehall Road\, Whitehall\, MI\, 49461\, United States
CATEGORIES:Waste
END:VEVENT
BEGIN:VEVENT
DTSTART;VALUE=DATE:20250905
DTEND;VALUE=DATE:20250906
DTSTAMP:20260425T122245
CREATED:20250903T173340Z
LAST-MODIFIED:20250903T173340Z
UID:5273-1757030400-1757116799@whitehalltwp.org
SUMMARY:Office Closed
DESCRIPTION:
URL:https://whitehalltwp.org/events/office-closed-3/
LOCATION:MI
CATEGORIES:Office
ATTACH;FMTTYPE=image/jpeg:https://whitehalltwp.org/wp-content/uploads/2025/09/Office-hours.jpg
END:VEVENT
BEGIN:VEVENT
DTSTART;TZID=America/Detroit:20250903T180000
DTEND;TZID=America/Detroit:20250903T190000
DTSTAMP:20260425T122245
CREATED:20250903T144926Z
LAST-MODIFIED:20250914T151739Z
UID:5257-1756922400-1756926000@whitehalltwp.org
SUMMARY:Planning Commission Meeting
DESCRIPTION:
URL:https://whitehalltwp.org/events/planning-commission-meeting/
LOCATION:Whitehall Township Hall\, 7644 Durham Rd\, Whitehall\, MI\, 49461\, United States
CATEGORIES:Planning Commission
END:VEVENT
BEGIN:VEVENT
DTSTART;TZID=America/Detroit:20250903T140000
DTEND;TZID=America/Detroit:20250903T180000
DTSTAMP:20260425T122245
CREATED:20250903T145326Z
LAST-MODIFIED:20250903T145706Z
UID:5259-1756908000-1756922400@whitehalltwp.org
SUMMARY:Whitehall Twp Leaf & Brush Station
DESCRIPTION:HOURS OF OPERATION:\n\nWednesday\, 2:00 p.m. – 6:00 p.m.\nSaturday\, 10:00 a.m. – 5:00 p.m.
URL:https://whitehalltwp.org/events/open-leaf-brush-station/
LOCATION:Whitehall Rd @ Benston Rd\, Whitehall Rd @ Benston Rd\, Whitehall\, MI\, 49461\, United States
CATEGORIES:Waste
END:VEVENT
BEGIN:VEVENT
DTSTART;TZID=America/Detroit:20250903T080000
DTEND;TZID=America/Detroit:20250903T160000
DTSTAMP:20260425T122245
CREATED:20250823T174615Z
LAST-MODIFIED:20250903T145552Z
UID:5213-1756886400-1756915200@whitehalltwp.org
SUMMARY:Whitehall Transfer Station
DESCRIPTION:HOURS OF OPERATION:\n\nWEDNESDAY\, 8 a.m. – 4 p.m.\nSATURDAY\, 8 a.m. – 4 p.m.
URL:https://whitehalltwp.org/events/whitehall-transfer-station-3/
LOCATION:Whitehall Transfer Station\, 2100 Holton Whitehall Road\, Whitehall\, MI\, 49461\, United States
CATEGORIES:Waste
END:VEVENT
END:VCALENDAR