BEGIN:VCALENDAR
VERSION:2.0
PRODID:-//Whitehall Township - ECPv6.15.20//NONSGML v1.0//EN
CALSCALE:GREGORIAN
METHOD:PUBLISH
X-WR-CALNAME:Whitehall Township
X-ORIGINAL-URL:https://whitehalltwp.org
X-WR-CALDESC:Events for Whitehall Township
REFRESH-INTERVAL;VALUE=DURATION:PT1H
X-Robots-Tag:noindex
X-PUBLISHED-TTL:PT1H
BEGIN:VTIMEZONE
TZID:America/Detroit
BEGIN:DAYLIGHT
TZOFFSETFROM:-0500
TZOFFSETTO:-0400
TZNAME:EDT
DTSTART:20240310T070000
END:DAYLIGHT
BEGIN:STANDARD
TZOFFSETFROM:-0400
TZOFFSETTO:-0500
TZNAME:EST
DTSTART:20241103T060000
END:STANDARD
BEGIN:DAYLIGHT
TZOFFSETFROM:-0500
TZOFFSETTO:-0400
TZNAME:EDT
DTSTART:20250309T070000
END:DAYLIGHT
BEGIN:STANDARD
TZOFFSETFROM:-0400
TZOFFSETTO:-0500
TZNAME:EST
DTSTART:20251102T060000
END:STANDARD
BEGIN:DAYLIGHT
TZOFFSETFROM:-0500
TZOFFSETTO:-0400
TZNAME:EDT
DTSTART:20260308T070000
END:DAYLIGHT
BEGIN:STANDARD
TZOFFSETFROM:-0400
TZOFFSETTO:-0500
TZNAME:EST
DTSTART:20261101T060000
END:STANDARD
END:VTIMEZONE
BEGIN:VEVENT
DTSTART;TZID=America/Detroit:20251108T090000
DTEND;TZID=America/Detroit:20251108T160000
DTSTAMP:20260424T070541
CREATED:20251030T145908Z
LAST-MODIFIED:20251030T145908Z
UID:5580-1762592400-1762617600@whitehalltwp.org
SUMMARY:Whitehall Transfer Station
DESCRIPTION:HOURS OF OPERATION:\nOctober- March \n\nWEDNESDAY\, 9 a.m. – 4 p.m.\nSATURDAY\, 9 a.m. – 4 p.m.\n\nApril-September \n\nWEDNESDAY\, 8 a.m. – 4 p.m.\nSATURDAY\, 8 a.m. – 4 p.m.
URL:https://whitehalltwp.org/events/whitehall-transfer-station-15/
LOCATION:Whitehall Transfer Station\, 2100 Holton Whitehall Road\, Whitehall\, MI\, 49461\, United States
CATEGORIES:Waste
ATTACH;FMTTYPE=image/jpeg:https://whitehalltwp.org/wp-content/uploads/2025/08/Transfer-Station-2025.jpg
END:VEVENT
BEGIN:VEVENT
DTSTART;VALUE=DATE:20251107
DTEND;VALUE=DATE:20251108
DTSTAMP:20260424T070541
CREATED:20251015T141151Z
LAST-MODIFIED:20251015T141151Z
UID:5517-1762473600-1762559999@whitehalltwp.org
SUMMARY:Office Closed
DESCRIPTION:
URL:https://whitehalltwp.org/events/office-closed-12/
LOCATION:Whitehall Township Hall\, 7644 Durham Rd\, Whitehall\, MI\, 49461\, United States
CATEGORIES:Office
END:VEVENT
BEGIN:VEVENT
DTSTART;TZID=America/Detroit:20251106T130000
DTEND;TZID=America/Detroit:20251106T160000
DTSTAMP:20260424T070541
CREATED:20251030T191122Z
LAST-MODIFIED:20251030T191122Z
UID:5614-1762434000-1762444800@whitehalltwp.org
SUMMARY:Treasurer Open Office hours
DESCRIPTION:In Office \n\nTuesday 1:00 – 4 P.M.\nWednesday\, 9:00 A.M. – 1:00 P.M.\nThursday 1 – 4 P.M.
URL:https://whitehalltwp.org/events/treasurer-open-office-hours-23/
LOCATION:Whitehall Township Hall\, 7644 Durham Rd\, Whitehall\, MI\, 49461\, United States
CATEGORIES:Treasurer
ATTACH;FMTTYPE=image/png:https://whitehalltwp.org/wp-content/uploads/2025/08/Screenshot-2025-08-23-at-12.04.01-PM.png
ORGANIZER;CN="Rhonda Boyd":MAILTO:treasurer@whitehalltwp.org
END:VEVENT
BEGIN:VEVENT
DTSTART;TZID=America/Detroit:20251105T180000
DTEND;TZID=America/Detroit:20251105T190000
DTSTAMP:20260424T070541
CREATED:20251015T144212Z
LAST-MODIFIED:20251105T170151Z
UID:5534-1762365600-1762369200@whitehalltwp.org
SUMMARY:Planning Commission Meeting
DESCRIPTION:
URL:https://whitehalltwp.org/events/planning-commission-meeting-3/
LOCATION:Whitehall Township Hall\, 7644 Durham Rd\, Whitehall\, MI\, 49461\, United States
CATEGORIES:Planning Commission
ATTACH;FMTTYPE=image/jpeg:https://whitehalltwp.org/wp-content/uploads/2025/10/2025-nov-agenda.jpg
END:VEVENT
BEGIN:VEVENT
DTSTART;TZID=America/Detroit:20251105T130000
DTEND;TZID=America/Detroit:20251105T180000
DTSTAMP:20260424T070541
CREATED:20251030T141804Z
LAST-MODIFIED:20251030T141804Z
UID:5564-1762347600-1762365600@whitehalltwp.org
SUMMARY:Whitehall Twp Leaf & Brush Station
DESCRIPTION:HOURS OF OPERATION:\n\nMonday\, 1:00 p.m. – 6:00 p.m.\nWednesday\, 1:00 p.m. – 6:00 p.m.\nSaturday\, 10:00 a.m. – 5:00 p.m.
URL:https://whitehalltwp.org/events/whitehall-twp-leaf-brush-station-21/
LOCATION:Whitehall Rd @ Benston Rd\, Whitehall Rd @ Benston Rd\, Whitehall\, MI\, 49461\, United States
CATEGORIES:Waste
ORGANIZER;CN="Dennis Kroll":MAILTO:supervisor@whitehalltwp.org
END:VEVENT
BEGIN:VEVENT
DTSTART;TZID=America/Detroit:20251105T100000
DTEND;TZID=America/Detroit:20251105T140000
DTSTAMP:20260424T070541
CREATED:20250823T161732Z
LAST-MODIFIED:20251030T182931Z
UID:5179-1762336800-1762351200@whitehalltwp.org
SUMMARY:Clerk Open Office hours
DESCRIPTION:In Office \n\nMonday\, 10:00 AM – 2:00 PM\nWednesday\, 10:00 AM – 2:00 PM
URL:https://whitehalltwp.org/events/clerk-in-office-2/
LOCATION:Whitehall Township Hall\, 7644 Durham Rd\, Whitehall\, MI\, 49461\, United States
CATEGORIES:Clerk
ATTACH;FMTTYPE=image/png:https://whitehalltwp.org/wp-content/uploads/2025/08/Screenshot-2025-08-23-at-12.04.01-PM.png
ORGANIZER;CN="Ilene R. Nichols":MAILTO:Clerk@whitehalltwp.org
END:VEVENT
BEGIN:VEVENT
DTSTART;TZID=America/Detroit:20251105T090000
DTEND;TZID=America/Detroit:20251105T160000
DTSTAMP:20260424T070541
CREATED:20251030T145838Z
LAST-MODIFIED:20251030T145838Z
UID:5578-1762333200-1762358400@whitehalltwp.org
SUMMARY:Whitehall Transfer Station
DESCRIPTION:HOURS OF OPERATION:\nOctober- March \n\nWEDNESDAY\, 9 a.m. – 4 p.m.\nSATURDAY\, 9 a.m. – 4 p.m.\n\nApril-September \n\nWEDNESDAY\, 8 a.m. – 4 p.m.\nSATURDAY\, 8 a.m. – 4 p.m.
URL:https://whitehalltwp.org/events/whitehall-transfer-station-14/
LOCATION:Whitehall Transfer Station\, 2100 Holton Whitehall Road\, Whitehall\, MI\, 49461\, United States
CATEGORIES:Waste
ATTACH;FMTTYPE=image/jpeg:https://whitehalltwp.org/wp-content/uploads/2025/08/Transfer-Station-2025.jpg
END:VEVENT
BEGIN:VEVENT
DTSTART;TZID=America/Detroit:20251105T090000
DTEND;TZID=America/Detroit:20251105T130000
DTSTAMP:20260424T070541
CREATED:20251030T182131Z
LAST-MODIFIED:20251030T190956Z
UID:5592-1762333200-1762347600@whitehalltwp.org
SUMMARY:Treasurer Open Office hours
DESCRIPTION:In Office \n\nTuesday 1:00 – 4 P.M.\nWednesday\, 9:00 A.M. – 1:00 P.M.\nThursday 1 – 4 P.M.
URL:https://whitehalltwp.org/events/treasurer-open-office-hours-17/
LOCATION:Whitehall Township Hall\, 7644 Durham Rd\, Whitehall\, MI\, 49461\, United States
CATEGORIES:Treasurer
ATTACH;FMTTYPE=image/png:https://whitehalltwp.org/wp-content/uploads/2025/08/Screenshot-2025-08-23-at-12.04.01-PM.png
ORGANIZER;CN="Rhonda Boyd":MAILTO:treasurer@whitehalltwp.org
END:VEVENT
BEGIN:VEVENT
DTSTART;TZID=America/Detroit:20251104T130000
DTEND;TZID=America/Detroit:20251104T160000
DTSTAMP:20260424T070541
CREATED:20250923T172743Z
LAST-MODIFIED:20251030T190513Z
UID:5389-1762261200-1762272000@whitehalltwp.org
SUMMARY:Treasurer Open Office hours
DESCRIPTION:Tuesday 1-4 p.m.\nWednesday 9 a.m. – 1 p.m.\nThursday 1-4 p.m.
URL:https://whitehalltwp.org/events/treasurer-open-office-hours-3/
LOCATION:Whitehall Township Hall\, 7644 Durham Rd\, Whitehall\, MI\, 49461\, United States
CATEGORIES:Treasurer
END:VEVENT
BEGIN:VEVENT
DTSTART;VALUE=DATE:20251104
DTEND;VALUE=DATE:20251105
DTSTAMP:20260424T070541
CREATED:20251103T202946Z
LAST-MODIFIED:20251103T203449Z
UID:5628-1762214400-1762300799@whitehalltwp.org
SUMMARY:Main Office Closed
DESCRIPTION:The Administration Assistant is out of the office on Tuesday\, November 4th\, for the local election. The main office will resume regular hours on Wednesday\, November 5th.
URL:https://whitehalltwp.org/events/election-day-2/
LOCATION:Whitehall Township Hall\, 7644 Durham Rd\, Whitehall\, MI\, 49461\, United States
CATEGORIES:Office
END:VEVENT
BEGIN:VEVENT
DTSTART;VALUE=DATE:20251104
DTEND;VALUE=DATE:20251105
DTSTAMP:20260424T070541
CREATED:20251021T164904Z
LAST-MODIFIED:20251021T164904Z
UID:5549-1762214400-1762300799@whitehalltwp.org
SUMMARY:Election Day
DESCRIPTION:What’s on the ballot? \nWhitehall School District: \n\nWhitehall Public School Bond Proposal\nWhite Lake Area Ambulance Authority Millage Renewal\n\nMontague School District: \n\nWhite Lake Area Ambulance Authority Millage Renewal
URL:https://whitehalltwp.org/events/election-day/
LOCATION:Whitehall Township Hall\, 7644 Durham Rd\, Whitehall\, MI\, 49461\, United States
CATEGORIES:Regular
ORGANIZER;CN="Ilene R. Nichols":MAILTO:Clerk@whitehalltwp.org
END:VEVENT
BEGIN:VEVENT
DTSTART;TZID=America/Detroit:20251103T130000
DTEND;TZID=America/Detroit:20251103T180000
DTSTAMP:20260424T070541
CREATED:20251030T141730Z
LAST-MODIFIED:20251030T141730Z
UID:5565-1762174800-1762192800@whitehalltwp.org
SUMMARY:Whitehall Twp Leaf & Brush Station
DESCRIPTION:HOURS OF OPERATION:\n\nMonday\, 1:00 p.m. – 6:00 p.m.\nWednesday\, 1:00 p.m. – 6:00 p.m.\nSaturday\, 10:00 a.m. – 5:00 p.m.
URL:https://whitehalltwp.org/events/whitehall-twp-leaf-brush-station-20/
LOCATION:Whitehall Rd @ Benston Rd\, Whitehall Rd @ Benston Rd\, Whitehall\, MI\, 49461\, United States
CATEGORIES:Waste
ORGANIZER;CN="Dennis Kroll":MAILTO:supervisor@whitehalltwp.org
END:VEVENT
BEGIN:VEVENT
DTSTART;TZID=America/Detroit:20251103T100000
DTEND;TZID=America/Detroit:20251103T140000
DTSTAMP:20260424T070541
CREATED:20251001T185429Z
LAST-MODIFIED:20251009T171456Z
UID:5440-1762164000-1762178400@whitehalltwp.org
SUMMARY:Clerk Open Office hours
DESCRIPTION:  \n\nMonday\, 10:00 AM – 2:00 PM\nWednesday\, 10:00 AM – 2:00 PM
URL:https://whitehalltwp.org/events/clerk-open-office-hours-3/
LOCATION:Whitehall Township Hall\, 7644 Durham Rd\, Whitehall\, MI\, 49461\, United States
CATEGORIES:Clerk
ATTACH;FMTTYPE=image/png:https://whitehalltwp.org/wp-content/uploads/2025/08/Screenshot-2025-08-23-at-12.04.01-PM.png
ORGANIZER;CN="Ilene R. Nichols":MAILTO:Clerk@whitehalltwp.org
END:VEVENT
BEGIN:VEVENT
DTSTART;TZID=America/Detroit:20251101T100000
DTEND;TZID=America/Detroit:20251101T170000
DTSTAMP:20260424T070541
CREATED:20251009T175147Z
LAST-MODIFIED:20251009T175147Z
UID:5475-1761991200-1762016400@whitehalltwp.org
SUMMARY:Whitehall Twp Leaf & Brush Station
DESCRIPTION:HOURS OF OPERATION:\n\nMonday\, 1:00 p.m. – 6:00 p.m.\nWednesday\, 1:00 p.m. – 6:00 p.m.\nSaturday\, 10:00 a.m. – 5:00 p.m.
URL:https://whitehalltwp.org/events/whitehall-twp-leaf-brush-station-19/
LOCATION:Whitehall Rd @ Benston Rd\, Whitehall Rd @ Benston Rd\, Whitehall\, MI\, 49461\, United States
CATEGORIES:Waste
ORGANIZER;CN="Dennis Kroll":MAILTO:supervisor@whitehalltwp.org
END:VEVENT
BEGIN:VEVENT
DTSTART;TZID=America/Detroit:20251101T090000
DTEND;TZID=America/Detroit:20251101T170000
DTSTAMP:20260424T070541
CREATED:20251021T162717Z
LAST-MODIFIED:20251021T162717Z
UID:5544-1761987600-1762016400@whitehalltwp.org
SUMMARY:Pre Election Clerk Open Office hours
DESCRIPTION:
URL:https://whitehalltwp.org/events/pre-election-clerk-open-office-hours/
LOCATION:Whitehall Township Hall\, 7644 Durham Rd\, Whitehall\, MI\, 49461\, United States
CATEGORIES:Clerk
ORGANIZER;CN="Ilene R. Nichols":MAILTO:Clerk@whitehalltwp.org
END:VEVENT
BEGIN:VEVENT
DTSTART;TZID=America/Detroit:20251101T090000
DTEND;TZID=America/Detroit:20251101T160000
DTSTAMP:20260424T070541
CREATED:20251030T145742Z
LAST-MODIFIED:20251030T145742Z
UID:5576-1761987600-1762012800@whitehalltwp.org
SUMMARY:Whitehall Transfer Station
DESCRIPTION:HOURS OF OPERATION:\nOctober- March \n\nWEDNESDAY\, 9 a.m. – 4 p.m.\nSATURDAY\, 9 a.m. – 4 p.m.\n\nApril-September \n\nWEDNESDAY\, 8 a.m. – 4 p.m.\nSATURDAY\, 8 a.m. – 4 p.m.
URL:https://whitehalltwp.org/events/whitehall-transfer-station-13/
LOCATION:Whitehall Transfer Station\, 2100 Holton Whitehall Road\, Whitehall\, MI\, 49461\, United States
CATEGORIES:Waste
ATTACH;FMTTYPE=image/jpeg:https://whitehalltwp.org/wp-content/uploads/2025/08/Transfer-Station-2025.jpg
END:VEVENT
BEGIN:VEVENT
DTSTART;VALUE=DATE:20251031
DTEND;VALUE=DATE:20251101
DTSTAMP:20260424T070541
CREATED:20251015T141057Z
LAST-MODIFIED:20251015T141057Z
UID:5515-1761868800-1761955199@whitehalltwp.org
SUMMARY:Office Closed
DESCRIPTION:
URL:https://whitehalltwp.org/events/office-closed-11/
LOCATION:Whitehall Township Hall\, 7644 Durham Rd\, Whitehall\, MI\, 49461\, United States
CATEGORIES:Office
END:VEVENT
BEGIN:VEVENT
DTSTART;TZID=America/Detroit:20251030T130000
DTEND;TZID=America/Detroit:20251030T160000
DTSTAMP:20260424T070541
CREATED:20251001T184754Z
LAST-MODIFIED:20251001T184754Z
UID:5434-1761829200-1761840000@whitehalltwp.org
SUMMARY:Treasurer Open Office hours
DESCRIPTION:Tuesday 1-4 p.m.\nWednesday 9 a.m. – 1 p.m.\nThursday 1-4 p.m.
URL:https://whitehalltwp.org/events/treasurer-open-office-hours-16/
LOCATION:Whitehall Township Hall\, 7644 Durham Rd\, Whitehall\, MI\, 49461\, United States
CATEGORIES:Treasurer
ORGANIZER;CN="Rhonda Boyd":MAILTO:treasurer@whitehalltwp.org
END:VEVENT
BEGIN:VEVENT
DTSTART;TZID=America/Detroit:20251029T130000
DTEND;TZID=America/Detroit:20251029T180000
DTSTAMP:20260424T070541
CREATED:20251009T175036Z
LAST-MODIFIED:20251009T175036Z
UID:5473-1761742800-1761760800@whitehalltwp.org
SUMMARY:Whitehall Twp Leaf & Brush Station
DESCRIPTION:HOURS OF OPERATION:\n\nMonday\, 1:00 p.m. – 6:00 p.m.\nWednesday\, 1:00 p.m. – 6:00 p.m.\nSaturday\, 10:00 a.m. – 5:00 p.m.
URL:https://whitehalltwp.org/events/whitehall-twp-leaf-brush-station-18/
LOCATION:Whitehall Rd @ Benston Rd\, Whitehall Rd @ Benston Rd\, Whitehall\, MI\, 49461\, United States
CATEGORIES:Waste
ORGANIZER;CN="Dennis Kroll":MAILTO:supervisor@whitehalltwp.org
END:VEVENT
BEGIN:VEVENT
DTSTART;TZID=America/Detroit:20251029T100000
DTEND;TZID=America/Detroit:20251029T140000
DTSTAMP:20260424T070541
CREATED:20251001T185807Z
LAST-MODIFIED:20251001T185807Z
UID:5450-1761732000-1761746400@whitehalltwp.org
SUMMARY:Clerk Open Office hours
DESCRIPTION:  \n\nMonday\, 10:00 AM – 2:00 PM\nWednesday\, 10:00 AM – 2:00 PM
URL:https://whitehalltwp.org/events/clerk-open-office-hours-8/
LOCATION:Whitehall Township Hall\, 7644 Durham Rd\, Whitehall\, MI\, 49461\, United States
CATEGORIES:Clerk
ATTACH;FMTTYPE=image/png:https://whitehalltwp.org/wp-content/uploads/2025/08/Screenshot-2025-08-23-at-12.04.01-PM.png
ORGANIZER;CN="Ilene R. Nichols":MAILTO:Clerk@whitehalltwp.org
END:VEVENT
BEGIN:VEVENT
DTSTART;TZID=America/Detroit:20251029T090000
DTEND;TZID=America/Detroit:20251029T160000
DTSTAMP:20260424T070541
CREATED:20251015T140200Z
LAST-MODIFIED:20251015T140200Z
UID:5504-1761728400-1761753600@whitehalltwp.org
SUMMARY:Whitehall Transfer Station
DESCRIPTION:HOURS OF OPERATION:\nOctober- March \n\nWEDNESDAY\, 9 a.m. – 4 p.m.\nSATURDAY\, 9 a.m. – 4 p.m.\n\nApril-September \n\nWEDNESDAY\, 8 a.m. – 4 p.m.\nSATURDAY\, 8 a.m. – 4 p.m.
URL:https://whitehalltwp.org/events/whitehall-transfer-station-12/
LOCATION:Whitehall Transfer Station\, 2100 Holton Whitehall Road\, Whitehall\, MI\, 49461\, United States
CATEGORIES:Waste
ATTACH;FMTTYPE=image/jpeg:https://whitehalltwp.org/wp-content/uploads/2025/08/Transfer-Station-2025.jpg
END:VEVENT
BEGIN:VEVENT
DTSTART;TZID=America/Detroit:20251029T090000
DTEND;TZID=America/Detroit:20251029T130000
DTSTAMP:20260424T070541
CREATED:20251001T160445Z
LAST-MODIFIED:20251001T160445Z
UID:5412-1761728400-1761742800@whitehalltwp.org
SUMMARY:Treasurer open office hours
DESCRIPTION:In Office \n\nTuesday 1:00 – 4 P.M.\nWednesday\, 9:00 A.M. – 1:00 P.M.\nThursday 1 – 4 P.M.
URL:https://whitehalltwp.org/events/treasurer-open-office-hours-8/
LOCATION:Whitehall Township Hall\, 7644 Durham Rd\, Whitehall\, MI\, 49461\, United States
CATEGORIES:Treasurer
ATTACH;FMTTYPE=image/png:https://whitehalltwp.org/wp-content/uploads/2025/08/Screenshot-2025-08-23-at-12.04.01-PM.png
ORGANIZER;CN="Rhonda Boyd":MAILTO:treasurer@whitehalltwp.org
END:VEVENT
BEGIN:VEVENT
DTSTART;TZID=America/Detroit:20251028T130000
DTEND;TZID=America/Detroit:20251028T160000
DTSTAMP:20260424T070541
CREATED:20251001T184715Z
LAST-MODIFIED:20251001T184715Z
UID:5432-1761656400-1761667200@whitehalltwp.org
SUMMARY:Treasurer Open Office hours
DESCRIPTION:Tuesday 1-4 p.m.\nWednesday 9 a.m. – 1 p.m.\nThursday 1-4 p.m.
URL:https://whitehalltwp.org/events/treasurer-open-office-hours-15/
LOCATION:Whitehall Township Hall\, 7644 Durham Rd\, Whitehall\, MI\, 49461\, United States
CATEGORIES:Treasurer
ORGANIZER;CN="Rhonda Boyd":MAILTO:treasurer@whitehalltwp.org
END:VEVENT
BEGIN:VEVENT
DTSTART;TZID=America/Detroit:20251027T163000
DTEND;TZID=America/Detroit:20251027T173000
DTSTAMP:20260424T070541
CREATED:20251009T171637Z
LAST-MODIFIED:20251027T133504Z
UID:5453-1761582600-1761586200@whitehalltwp.org
SUMMARY:Regular Board Meeting
DESCRIPTION:
URL:https://whitehalltwp.org/events/regular-board-meeting-2/
LOCATION:Whitehall Township Hall\, 7644 Durham Rd\, Whitehall\, MI\, 49461\, United States
CATEGORIES:Regular
ATTACH;FMTTYPE=application/pdf:https://whitehalltwp.org/wp-content/uploads/2025/10/2025-1027.pdf
ORGANIZER;CN="Dennis Kroll":MAILTO:supervisor@whitehalltwp.org
END:VEVENT
BEGIN:VEVENT
DTSTART;TZID=America/Detroit:20251027T130000
DTEND;TZID=America/Detroit:20251027T180000
DTSTAMP:20260424T070541
CREATED:20251009T174956Z
LAST-MODIFIED:20251009T174956Z
UID:5471-1761570000-1761588000@whitehalltwp.org
SUMMARY:Whitehall Twp Leaf & Brush Station
DESCRIPTION:HOURS OF OPERATION:\n\nMonday\, 1:00 p.m. – 6:00 p.m.\nWednesday\, 1:00 p.m. – 6:00 p.m.\nSaturday\, 10:00 a.m. – 5:00 p.m.
URL:https://whitehalltwp.org/events/whitehall-twp-leaf-brush-station-17/
LOCATION:Whitehall Rd @ Benston Rd\, Whitehall Rd @ Benston Rd\, Whitehall\, MI\, 49461\, United States
CATEGORIES:Waste
ORGANIZER;CN="Dennis Kroll":MAILTO:supervisor@whitehalltwp.org
END:VEVENT
BEGIN:VEVENT
DTSTART;TZID=America/Detroit:20251027T100000
DTEND;TZID=America/Detroit:20251027T140000
DTSTAMP:20260424T070541
CREATED:20251001T185710Z
LAST-MODIFIED:20251001T185710Z
UID:5448-1761559200-1761573600@whitehalltwp.org
SUMMARY:Clerk Open Office hours
DESCRIPTION:  \n\nMonday\, 10:00 AM – 2:00 PM\nWednesday\, 10:00 AM – 2:00 PM
URL:https://whitehalltwp.org/events/clerk-open-office-hours-7/
LOCATION:Whitehall Township Hall\, 7644 Durham Rd\, Whitehall\, MI\, 49461\, United States
CATEGORIES:Clerk
ATTACH;FMTTYPE=image/png:https://whitehalltwp.org/wp-content/uploads/2025/08/Screenshot-2025-08-23-at-12.04.01-PM.png
ORGANIZER;CN="Ilene R. Nichols":MAILTO:Clerk@whitehalltwp.org
END:VEVENT
BEGIN:VEVENT
DTSTART;TZID=America/Detroit:20251025T100000
DTEND;TZID=America/Detroit:20251025T170000
DTSTAMP:20260424T070541
CREATED:20251009T172844Z
LAST-MODIFIED:20251009T173138Z
UID:5463-1761386400-1761411600@whitehalltwp.org
SUMMARY:Whitehall Twp Leaf & Brush Station
DESCRIPTION:HOURS OF OPERATION:\n\nMonday\, 1:00 p.m. – 6:00 p.m.\nWednesday\, 1:00 p.m. – 6:00 p.m.\nSaturday\, 10:00 a.m. – 5:00 p.m.
URL:https://whitehalltwp.org/events/whitehall-twp-leaf-brush-station-13/
LOCATION:Whitehall Rd @ Benston Rd\, Whitehall Rd @ Benston Rd\, Whitehall\, MI\, 49461\, United States
CATEGORIES:Waste
ORGANIZER;CN="Dennis Kroll":MAILTO:supervisor@whitehalltwp.org
END:VEVENT
BEGIN:VEVENT
DTSTART;TZID=America/Detroit:20251025T090000
DTEND;TZID=America/Detroit:20251025T160000
DTSTAMP:20260424T070541
CREATED:20251015T140137Z
LAST-MODIFIED:20251015T140137Z
UID:5503-1761382800-1761408000@whitehalltwp.org
SUMMARY:Whitehall Transfer Station
DESCRIPTION:HOURS OF OPERATION:\nOctober- March \n\nWEDNESDAY\, 9 a.m. – 4 p.m.\nSATURDAY\, 9 a.m. – 4 p.m.\n\nApril-September \n\nWEDNESDAY\, 8 a.m. – 4 p.m.\nSATURDAY\, 8 a.m. – 4 p.m.
URL:https://whitehalltwp.org/events/whitehall-transfer-station-11/
LOCATION:Whitehall Transfer Station\, 2100 Holton Whitehall Road\, Whitehall\, MI\, 49461\, United States
CATEGORIES:Waste
ATTACH;FMTTYPE=image/jpeg:https://whitehalltwp.org/wp-content/uploads/2025/08/Transfer-Station-2025.jpg
END:VEVENT
BEGIN:VEVENT
DTSTART;VALUE=DATE:20251024
DTEND;VALUE=DATE:20251025
DTSTAMP:20260424T070541
CREATED:20251015T141035Z
LAST-MODIFIED:20251015T141035Z
UID:5513-1761264000-1761350399@whitehalltwp.org
SUMMARY:Office Closed
DESCRIPTION:
URL:https://whitehalltwp.org/events/office-closed-10/
LOCATION:Whitehall Township Hall\, 7644 Durham Rd\, Whitehall\, MI\, 49461\, United States
CATEGORIES:Office
END:VEVENT
BEGIN:VEVENT
DTSTART;TZID=America/Detroit:20251023T130000
DTEND;TZID=America/Detroit:20251023T160000
DTSTAMP:20260424T070541
CREATED:20251001T184624Z
LAST-MODIFIED:20251001T184624Z
UID:5430-1761224400-1761235200@whitehalltwp.org
SUMMARY:Treasurer Open Office hours
DESCRIPTION:Tuesday 1-4 p.m.\nWednesday 9 a.m. – 1 p.m.\nThursday 1-4 p.m.
URL:https://whitehalltwp.org/events/treasurer-open-office-hours-14/
LOCATION:Whitehall Township Hall\, 7644 Durham Rd\, Whitehall\, MI\, 49461\, United States
CATEGORIES:Treasurer
ORGANIZER;CN="Rhonda Boyd":MAILTO:treasurer@whitehalltwp.org
END:VEVENT
END:VCALENDAR